BEGIN:VCALENDAR
VERSION:2.0
PRODID:-//Sun City Hilton Head Strummers - ECPv6.15.20//NONSGML v1.0//EN
CALSCALE:GREGORIAN
METHOD:PUBLISH
X-ORIGINAL-URL:https://schhstrummers.com
X-WR-CALDESC:Events for Sun City Hilton Head Strummers
REFRESH-INTERVAL;VALUE=DURATION:PT1H
X-Robots-Tag:noindex
X-PUBLISHED-TTL:PT1H
BEGIN:VTIMEZONE
TZID:America/New_York
BEGIN:DAYLIGHT
TZOFFSETFROM:-0500
TZOFFSETTO:-0400
TZNAME:EDT
DTSTART:20250309T070000
END:DAYLIGHT
BEGIN:STANDARD
TZOFFSETFROM:-0400
TZOFFSETTO:-0500
TZNAME:EST
DTSTART:20251102T060000
END:STANDARD
BEGIN:DAYLIGHT
TZOFFSETFROM:-0500
TZOFFSETTO:-0400
TZNAME:EDT
DTSTART:20260308T070000
END:DAYLIGHT
BEGIN:STANDARD
TZOFFSETFROM:-0400
TZOFFSETTO:-0500
TZNAME:EST
DTSTART:20261101T060000
END:STANDARD
BEGIN:DAYLIGHT
TZOFFSETFROM:-0500
TZOFFSETTO:-0400
TZNAME:EDT
DTSTART:20270314T070000
END:DAYLIGHT
BEGIN:STANDARD
TZOFFSETFROM:-0400
TZOFFSETTO:-0500
TZNAME:EST
DTSTART:20271107T060000
END:STANDARD
END:VTIMEZONE
BEGIN:VEVENT
DTSTART;TZID=America/New_York:20260303T120000
DTEND;TZID=America/New_York:20260303T130000
DTSTAMP:20260424T112138
CREATED:20260221T201621Z
LAST-MODIFIED:20260221T201621Z
UID:4109-1772539200-1772542800@schhstrummers.com
SUMMARY:STRUM N' TELL 1-2PM
DESCRIPTION:
URL:https://schhstrummers.com/event/strum-n-tell-1-2pm-2/
END:VEVENT
BEGIN:VEVENT
DTSTART;TZID=America/New_York:20260303T130000
DTEND;TZID=America/New_York:20260303T150000
DTSTAMP:20260424T112138
CREATED:20260221T201742Z
LAST-MODIFIED:20260221T201742Z
UID:4111-1772542800-1772550000@schhstrummers.com
SUMMARY:STRUMMERS MTG COLLETON
DESCRIPTION:
URL:https://schhstrummers.com/event/strummers-mtg-colleton/
END:VEVENT
BEGIN:VEVENT
DTSTART;TZID=America/New_York:20260304T170000
DTEND;TZID=America/New_York:20260304T200000
DTSTAMP:20260424T112138
CREATED:20260221T201954Z
LAST-MODIFIED:20260221T201954Z
UID:4113-1772643600-1772654400@schhstrummers.com
SUMMARY:OPEN MIC ROSE HILL/FAIRWINDS  BAR&GRILL
DESCRIPTION:
URL:https://schhstrummers.com/event/open-mic-rose-hill-fairwinds-bargrill/
END:VEVENT
BEGIN:VEVENT
DTSTART;TZID=America/New_York:20260307T170000
DTEND;TZID=America/New_York:20260307T200000
DTSTAMP:20260424T112138
CREATED:20260221T200601Z
LAST-MODIFIED:20260221T200601Z
UID:4100-1772902800-1772913600@schhstrummers.com
SUMMARY:GINNA AT FAIRWINDS BAR&GRILL @ ROSE HILL (open to public)
DESCRIPTION:
URL:https://schhstrummers.com/event/ginna-at-fairwinds-bargrill-rose-hill-open-to-public/
END:VEVENT
BEGIN:VEVENT
DTSTART;TZID=America/New_York:20260331T130000
DTEND;TZID=America/New_York:20260331T170000
DTSTAMP:20260424T112138
CREATED:20260401T032114Z
LAST-MODIFIED:20260406T033011Z
UID:4668-1774962000-1774976400@schhstrummers.com
SUMMARY:STRUMMERS MTG 2-4  COACHING 1-2
DESCRIPTION:
URL:https://schhstrummers.com/event/strummers-mtg-2-4-coaching-1-2/
END:VEVENT
END:VCALENDAR