BEGIN:VCALENDAR
VERSION:2.0
PRODID:-//Sun City Hilton Head Strummers - ECPv6.15.20//NONSGML v1.0//EN
CALSCALE:GREGORIAN
METHOD:PUBLISH
X-WR-CALNAME:Sun City Hilton Head Strummers
X-ORIGINAL-URL:https://schhstrummers.com
X-WR-CALDESC:Events for Sun City Hilton Head Strummers
REFRESH-INTERVAL;VALUE=DURATION:PT1H
X-Robots-Tag:noindex
X-PUBLISHED-TTL:PT1H
BEGIN:VTIMEZONE
TZID:America/New_York
BEGIN:DAYLIGHT
TZOFFSETFROM:-0500
TZOFFSETTO:-0400
TZNAME:EDT
DTSTART:20250309T070000
END:DAYLIGHT
BEGIN:STANDARD
TZOFFSETFROM:-0400
TZOFFSETTO:-0500
TZNAME:EST
DTSTART:20251102T060000
END:STANDARD
BEGIN:DAYLIGHT
TZOFFSETFROM:-0500
TZOFFSETTO:-0400
TZNAME:EDT
DTSTART:20260308T070000
END:DAYLIGHT
BEGIN:STANDARD
TZOFFSETFROM:-0400
TZOFFSETTO:-0500
TZNAME:EST
DTSTART:20261101T060000
END:STANDARD
BEGIN:DAYLIGHT
TZOFFSETFROM:-0500
TZOFFSETTO:-0400
TZNAME:EDT
DTSTART:20270314T070000
END:DAYLIGHT
BEGIN:STANDARD
TZOFFSETFROM:-0400
TZOFFSETTO:-0500
TZNAME:EST
DTSTART:20271107T060000
END:STANDARD
END:VTIMEZONE
BEGIN:VEVENT
DTSTART;TZID=America/New_York:20260303T120000
DTEND;TZID=America/New_York:20260303T130000
DTSTAMP:20260425T111011
CREATED:20260221T201621Z
LAST-MODIFIED:20260221T201621Z
UID:4109-1772539200-1772542800@schhstrummers.com
SUMMARY:STRUM N' TELL 1-2PM
DESCRIPTION:
URL:https://schhstrummers.com/event/strum-n-tell-1-2pm-2/
END:VEVENT
BEGIN:VEVENT
DTSTART;TZID=America/New_York:20260303T130000
DTEND;TZID=America/New_York:20260303T150000
DTSTAMP:20260425T111011
CREATED:20260221T201742Z
LAST-MODIFIED:20260221T201742Z
UID:4111-1772542800-1772550000@schhstrummers.com
SUMMARY:STRUMMERS MTG COLLETON
DESCRIPTION:
URL:https://schhstrummers.com/event/strummers-mtg-colleton/
END:VEVENT
BEGIN:VEVENT
DTSTART;TZID=America/New_York:20260304T170000
DTEND;TZID=America/New_York:20260304T200000
DTSTAMP:20260425T111011
CREATED:20260221T201954Z
LAST-MODIFIED:20260221T201954Z
UID:4113-1772643600-1772654400@schhstrummers.com
SUMMARY:OPEN MIC ROSE HILL/FAIRWINDS  BAR&GRILL
DESCRIPTION:
URL:https://schhstrummers.com/event/open-mic-rose-hill-fairwinds-bargrill/
END:VEVENT
BEGIN:VEVENT
DTSTART;TZID=America/New_York:20260307T170000
DTEND;TZID=America/New_York:20260307T200000
DTSTAMP:20260425T111011
CREATED:20260221T200601Z
LAST-MODIFIED:20260221T200601Z
UID:4100-1772902800-1772913600@schhstrummers.com
SUMMARY:GINNA AT FAIRWINDS BAR&GRILL @ ROSE HILL (open to public)
DESCRIPTION:
URL:https://schhstrummers.com/event/ginna-at-fairwinds-bargrill-rose-hill-open-to-public/
END:VEVENT
BEGIN:VEVENT
DTSTART;TZID=America/New_York:20260331T130000
DTEND;TZID=America/New_York:20260331T170000
DTSTAMP:20260425T111011
CREATED:20260401T032114Z
LAST-MODIFIED:20260406T033011Z
UID:4668-1774962000-1774976400@schhstrummers.com
SUMMARY:STRUMMERS MTG 2-4  COACHING 1-2
DESCRIPTION:
URL:https://schhstrummers.com/event/strummers-mtg-2-4-coaching-1-2/
END:VEVENT
BEGIN:VEVENT
DTSTART;TZID=America/New_York:20260401T180000
DTEND;TZID=America/New_York:20260401T210000
DTSTAMP:20260425T111011
CREATED:20260331T171915Z
LAST-MODIFIED:20260331T172917Z
UID:4597-1775066400-1775077200@schhstrummers.com
SUMMARY:OPEN MIC AT ROSE HILL
DESCRIPTION:Open MIC at Rose Hill Country Club   Fairwinds Bar and Grill  (just tell the gate guard you are going to the restaurant) \n 
URL:https://schhstrummers.com/event/open-mic/
END:VEVENT
BEGIN:VEVENT
DTSTART;TZID=America/New_York:20260407T130000
DTEND;TZID=America/New_York:20260407T160000
DTSTAMP:20260425T111011
CREATED:20260406T031910Z
LAST-MODIFIED:20260406T033303Z
UID:4666-1775566800-1775577600@schhstrummers.com
SUMMARY:STRUMMERS MEETING2-4 STRUM N' TELL 1-2 EDISTO RM
DESCRIPTION:
URL:https://schhstrummers.com/event/strummers-meeting2-4-strum-n-tell-1-2/
END:VEVENT
BEGIN:VEVENT
DTSTART;TZID=America/New_York:20260408T160000
DTEND;TZID=America/New_York:20260408T180000
DTSTAMP:20260425T111011
CREATED:20260331T172919Z
LAST-MODIFIED:20260331T173343Z
UID:4600-1775664000-1775671200@schhstrummers.com
SUMMARY:Ginna@Lakehouse
DESCRIPTION:
URL:https://schhstrummers.com/event/ginnalakehouse/
END:VEVENT
BEGIN:VEVENT
DTSTART;TZID=America/New_York:20260414T130000
DTEND;TZID=America/New_York:20260414T160000
DTSTAMP:20260425T111011
CREATED:20260406T033542Z
LAST-MODIFIED:20260406T033542Z
UID:4672-1776171600-1776182400@schhstrummers.com
SUMMARY:STRUMMERS MTG 2-4 COLLETON RM COACHING1-2
DESCRIPTION:
URL:https://schhstrummers.com/event/strummers-mtg-2-4-colleton-rm-coaching1-2/
END:VEVENT
BEGIN:VEVENT
DTSTART;TZID=America/New_York:20260418T100000
DTEND;TZID=America/New_York:20260418T130000
DTSTAMP:20260425T111011
CREATED:20260412T222825Z
LAST-MODIFIED:20260412T222825Z
UID:5007-1776506400-1776517200@schhstrummers.com
SUMMARY:ENVIRONMENTAL DAY PINCKNEY HALL & LOBBY - GINNA PERFORMING EARTH DAY SONGS
DESCRIPTION:
URL:https://schhstrummers.com/event/environmental-day-pinckney-hall-lobby-ginna-performing-earth-day-songs/
END:VEVENT
BEGIN:VEVENT
DTSTART;TZID=America/New_York:20260419T143000
DTEND;TZID=America/New_York:20260419T170000
DTSTAMP:20260425T111011
CREATED:20260412T225340Z
LAST-MODIFIED:20260412T225424Z
UID:5013-1776609000-1776618000@schhstrummers.com
SUMMARY:LOW COUNTRY ROCK JAM - TAILGATORS 2:30-6:00
DESCRIPTION:
URL:https://schhstrummers.com/event/low-country-rock-jam-tailgators-230-600/
END:VEVENT
BEGIN:VEVENT
DTSTART;TZID=America/New_York:20260419T143000
DTEND;TZID=America/New_York:20260419T180000
DTSTAMP:20260425T111011
CREATED:20260419T223914Z
LAST-MODIFIED:20260412T224955Z
UID:5011-1776609000-1776621600@schhstrummers.com
SUMMARY:LOW COUNTRY ROCK JAM @ TAILGATORS
DESCRIPTION:
URL:https://schhstrummers.com/event/low-country-rock-jam-tailgators/
END:VEVENT
BEGIN:VEVENT
DTSTART;TZID=America/New_York:20260421T130000
DTEND;TZID=America/New_York:20260421T160000
DTSTAMP:20260425T111011
CREATED:20260406T034415Z
LAST-MODIFIED:20260406T034415Z
UID:4677-1776776400-1776787200@schhstrummers.com
SUMMARY:STRUMMERS MTG 2-4 STRUM N TELL 1-2 COLLETON
DESCRIPTION:
URL:https://schhstrummers.com/event/strummers-mtg-2-4-strum-n-tell-1-2-colleton/
END:VEVENT
BEGIN:VEVENT
DTSTART;TZID=America/New_York:20260425T150000
DTEND;TZID=America/New_York:20260425T180000
DTSTAMP:20260425T111011
CREATED:20260420T014917Z
LAST-MODIFIED:20260420T014917Z
UID:5042-1777129200-1777140000@schhstrummers.com
SUMMARY:Todd Kimmel (Todd Tunes) at Southern Barrel 3-6pm
DESCRIPTION:
URL:https://schhstrummers.com/event/todd-kimmel-todd-tunes-at-southern-barrel-3-6pm/
END:VEVENT
BEGIN:VEVENT
DTSTART;TZID=America/New_York:20260428T110000
DTEND;TZID=America/New_York:20260428T120000
DTSTAMP:20260425T111011
CREATED:20260406T033854Z
LAST-MODIFIED:20260406T034149Z
UID:4674-1777374000-1777377600@schhstrummers.com
SUMMARY:MEMORY MATTERS GIG 11am St. Andrews STRUMMERS MTG 2-4 EDISTO
DESCRIPTION:
URL:https://schhstrummers.com/event/memory-matters-gig-11am-st-andrews-2/
END:VEVENT
BEGIN:VEVENT
DTSTART;TZID=America/New_York:20260430T143000
DTEND;TZID=America/New_York:20260430T163000
DTSTAMP:20260425T111011
CREATED:20260331T174411Z
LAST-MODIFIED:20260331T174411Z
UID:4604-1777559400-1777566600@schhstrummers.com
SUMMARY:Music Guild Showcase performance/1pm set-up
DESCRIPTION:
URL:https://schhstrummers.com/event/music-guild-showcase-performance-1pm-set-up/
END:VEVENT
END:VCALENDAR