BEGIN:VCALENDAR
VERSION:2.0
PRODID:-//Sun City Hilton Head Strummers - ECPv6.15.20//NONSGML v1.0//EN
CALSCALE:GREGORIAN
METHOD:PUBLISH
X-ORIGINAL-URL:https://schhstrummers.com
X-WR-CALDESC:Events for Sun City Hilton Head Strummers
REFRESH-INTERVAL;VALUE=DURATION:PT1H
X-Robots-Tag:noindex
X-PUBLISHED-TTL:PT1H
BEGIN:VTIMEZONE
TZID:America/New_York
BEGIN:DAYLIGHT
TZOFFSETFROM:-0500
TZOFFSETTO:-0400
TZNAME:EDT
DTSTART:20240310T070000
END:DAYLIGHT
BEGIN:STANDARD
TZOFFSETFROM:-0400
TZOFFSETTO:-0500
TZNAME:EST
DTSTART:20241103T060000
END:STANDARD
BEGIN:DAYLIGHT
TZOFFSETFROM:-0500
TZOFFSETTO:-0400
TZNAME:EDT
DTSTART:20250309T070000
END:DAYLIGHT
BEGIN:STANDARD
TZOFFSETFROM:-0400
TZOFFSETTO:-0500
TZNAME:EST
DTSTART:20251102T060000
END:STANDARD
BEGIN:DAYLIGHT
TZOFFSETFROM:-0500
TZOFFSETTO:-0400
TZNAME:EDT
DTSTART:20260308T070000
END:DAYLIGHT
BEGIN:STANDARD
TZOFFSETFROM:-0400
TZOFFSETTO:-0500
TZNAME:EST
DTSTART:20261101T060000
END:STANDARD
BEGIN:DAYLIGHT
TZOFFSETFROM:-0500
TZOFFSETTO:-0400
TZNAME:EDT
DTSTART:20270314T070000
END:DAYLIGHT
BEGIN:STANDARD
TZOFFSETFROM:-0400
TZOFFSETTO:-0500
TZNAME:EST
DTSTART:20271107T060000
END:STANDARD
END:VTIMEZONE
BEGIN:VEVENT
DTSTART;TZID=America/New_York:20251209T130000
DTEND;TZID=America/New_York:20251209T150000
DTSTAMP:20260425T100306
CREATED:20250901T224038Z
LAST-MODIFIED:20250901T224038Z
UID:3505-1765285200-1765292400@schhstrummers.com
SUMMARY:Strummers Mtg COLLETON RM
DESCRIPTION:
URL:https://schhstrummers.com/event/strummers-mtg-colleton-rm-4/
END:VEVENT
BEGIN:VEVENT
DTSTART;TZID=America/New_York:20251216T130000
DTEND;TZID=America/New_York:20251216T150000
DTSTAMP:20260425T100306
CREATED:20250901T224127Z
LAST-MODIFIED:20250901T224127Z
UID:3507-1765890000-1765897200@schhstrummers.com
SUMMARY:Strummers Mtg COLLETON RM
DESCRIPTION:
URL:https://schhstrummers.com/event/strummers-mtg-colleton-rm-5/
END:VEVENT
BEGIN:VEVENT
DTSTART;TZID=America/New_York:20251223T130000
DTEND;TZID=America/New_York:20251223T150000
DTSTAMP:20260425T100306
CREATED:20250901T224243Z
LAST-MODIFIED:20250901T224252Z
UID:3509-1766494800-1766502000@schhstrummers.com
SUMMARY:Strummers Mtg. COLLETON RM
DESCRIPTION:
URL:https://schhstrummers.com/event/strummers-mtg-colleton-rm-6/
END:VEVENT
BEGIN:VEVENT
DTSTART;TZID=America/New_York:20251230T130000
DTEND;TZID=America/New_York:20251230T150000
DTSTAMP:20260425T100306
CREATED:20250901T224853Z
LAST-MODIFIED:20250901T224853Z
UID:3514-1767099600-1767106800@schhstrummers.com
SUMMARY:NO ROOM SCHEDULED FOR STRUMMERS MEETING
DESCRIPTION:
URL:https://schhstrummers.com/event/no-room-scheduled-for-strummers-meeting/
END:VEVENT
BEGIN:VEVENT
DTSTART;TZID=America/New_York:20260106T120000
DTEND;TZID=America/New_York:20260106T150000
DTSTAMP:20260425T100306
CREATED:20251222T184434Z
LAST-MODIFIED:20251222T184434Z
UID:3862-1767700800-1767711600@schhstrummers.com
SUMMARY:STRUM N' TELL 1-2/MEETING EDISTO RM 2-4
DESCRIPTION:
URL:https://schhstrummers.com/event/strum-n-tell-1-2-meeting-edisto-rm-2-4/
END:VEVENT
BEGIN:VEVENT
DTSTART;TZID=America/New_York:20260113T120000
DTEND;TZID=America/New_York:20260113T150000
DTSTAMP:20260425T100306
CREATED:20260112T214710Z
LAST-MODIFIED:20260112T214710Z
UID:3910-1768305600-1768316400@schhstrummers.com
SUMMARY:STRUMMERS MTG/COACHING COLLETON RM 1-4
DESCRIPTION:
URL:https://schhstrummers.com/event/strummers-mtg-coaching-colleton-rm-1-4/
END:VEVENT
BEGIN:VEVENT
DTSTART;TZID=America/New_York:20260113T160000
DTEND;TZID=America/New_York:20260113T180000
DTSTAMP:20260425T100306
CREATED:20260105T222928Z
LAST-MODIFIED:20260105T222928Z
UID:3887-1768320000-1768327200@schhstrummers.com
SUMMARY:IRISH COFFEE-Todd Kimmel 5-7pm Edisto
DESCRIPTION:
URL:https://schhstrummers.com/event/irish-coffee-todd-kimmel-5-7pm-edisto/
END:VEVENT
BEGIN:VEVENT
DTSTART;TZID=America/New_York:20260119T070000
DTEND;TZID=America/New_York:20260119T160000
DTSTAMP:20260425T100306
CREATED:20260119T175109Z
LAST-MODIFIED:20260119T175109Z
UID:3948-1768806000-1768838400@schhstrummers.com
SUMMARY:STRUMMERS MTG 2-4 COACH/BECOACHED 1-2 LAKEHOUSE/BAYSIDE
DESCRIPTION:
URL:https://schhstrummers.com/event/strummers-mtg-2-4-coach-becoached-1-2-lakehouse-bayside/
END:VEVENT
BEGIN:VEVENT
DTSTART;TZID=America/New_York:20260120T120000
DTEND;TZID=America/New_York:20260120T150000
DTSTAMP:20260425T100306
CREATED:20260112T215201Z
LAST-MODIFIED:20260112T215201Z
UID:3916-1768910400-1768921200@schhstrummers.com
SUMMARY:STRUMMERS MTG/COACH 1-4 COLLETON RM
DESCRIPTION:
URL:https://schhstrummers.com/event/strummers-mtg-coach-1-4-colleton-rm/
END:VEVENT
BEGIN:VEVENT
DTSTART;TZID=America/New_York:20260120T160000
DTEND;TZID=America/New_York:20260120T180000
DTSTAMP:20260425T100306
CREATED:20260105T223237Z
LAST-MODIFIED:20260105T223237Z
UID:3890-1768924800-1768932000@schhstrummers.com
SUMMARY:IRISH COFFEE - KEEPIN IT REAL (Marcella & Ryan)
DESCRIPTION:
URL:https://schhstrummers.com/event/irish-coffee-keepin-it-real-marcella-ryan-2/
END:VEVENT
BEGIN:VEVENT
DTSTART;TZID=America/New_York:20260127T120000
DTEND;TZID=America/New_York:20260127T150000
DTSTAMP:20260425T100306
CREATED:20260119T172621Z
LAST-MODIFIED:20260119T172700Z
UID:3943-1769515200-1769526000@schhstrummers.com
SUMMARY:NO ROOM ASSIGNED!!
DESCRIPTION:
URL:https://schhstrummers.com/event/no-room-assigned-3/
END:VEVENT
BEGIN:VEVENT
DTSTART;TZID=America/New_York:20260203T120000
DTEND;TZID=America/New_York:20260203T150000
DTSTAMP:20260425T100306
CREATED:20260119T174759Z
LAST-MODIFIED:20260119T174816Z
UID:3946-1770120000-1770130800@schhstrummers.com
SUMMARY:STRUMMERS MTG 2-4 - STRUM N' TELL 1-2COLLETON
DESCRIPTION:
URL:https://schhstrummers.com/event/strummers-mtg-2-4-strum-n-tell-1-2colleton/
END:VEVENT
BEGIN:VEVENT
DTSTART;TZID=America/New_York:20260203T130000
DTEND;TZID=America/New_York:20260203T160000
DTSTAMP:20260425T100306
CREATED:20260202T204418Z
LAST-MODIFIED:20260202T204452Z
UID:3972-1770123600-1770134400@schhstrummers.com
SUMMARY:SCTV FILMING 2PM
DESCRIPTION:
URL:https://schhstrummers.com/event/sctv-filming-2pm/
END:VEVENT
BEGIN:VEVENT
DTSTART;TZID=America/New_York:20260203T160000
DTEND;TZID=America/New_York:20260203T180000
DTSTAMP:20260425T100306
CREATED:20260105T223507Z
LAST-MODIFIED:20260105T223529Z
UID:3892-1770134400-1770141600@schhstrummers.com
SUMMARY:IRISH COFFEE - Gina Pinkepank
DESCRIPTION:
URL:https://schhstrummers.com/event/irish-coffee-gina-pinkepank/
END:VEVENT
BEGIN:VEVENT
DTSTART;TZID=America/New_York:20260210T120000
DTEND;TZID=America/New_York:20260210T150000
DTSTAMP:20260425T100306
CREATED:20260119T175550Z
LAST-MODIFIED:20260119T175550Z
UID:3952-1770724800-1770735600@schhstrummers.com
SUMMARY:STRUMMERS MTG LAKEHOUSE BAYSIDE RM 2-4 COACH/BE COACH 1-2
DESCRIPTION:
URL:https://schhstrummers.com/event/strummers-mtg-lakehouse-bayside-rm-2-4-coach-be-coach-1-2/
END:VEVENT
BEGIN:VEVENT
DTSTART;TZID=America/New_York:20260217T120000
DTEND;TZID=America/New_York:20260217T130000
DTSTAMP:20260425T100306
CREATED:20260202T204906Z
LAST-MODIFIED:20260202T205338Z
UID:3976-1771329600-1771333200@schhstrummers.com
SUMMARY:COACH OR BE COACHED
DESCRIPTION:
URL:https://schhstrummers.com/event/coach-or-be-coached/
END:VEVENT
BEGIN:VEVENT
DTSTART;TZID=America/New_York:20260217T130000
DTEND;TZID=America/New_York:20260217T150000
DTSTAMP:20260425T100306
CREATED:20260202T204701Z
LAST-MODIFIED:20260202T204701Z
UID:3974-1771333200-1771340400@schhstrummers.com
SUMMARY:STRUMMERS MTG COLLETON RM
DESCRIPTION:
URL:https://schhstrummers.com/event/strummers-mtg-colleton-rm-7/
END:VEVENT
BEGIN:VEVENT
DTSTART;TZID=America/New_York:20260221T070000
DTEND;TZID=America/New_York:20260221T160000
DTSTAMP:20260425T100306
CREATED:20260221T200950Z
LAST-MODIFIED:20260221T201011Z
UID:4103-1771657200-1771689600@schhstrummers.com
SUMMARY:STRUM N' TELL 1-2PM
DESCRIPTION:
URL:https://schhstrummers.com/event/strum-n-tell-1-2pm/
END:VEVENT
BEGIN:VEVENT
DTSTART;TZID=America/New_York:20260221T070000
DTEND;TZID=America/New_York:20260221T160000
DTSTAMP:20260425T100306
CREATED:20260221T201429Z
LAST-MODIFIED:20260221T201429Z
UID:4107-1771657200-1771689600@schhstrummers.com
SUMMARY:STRUM N' TELL 1-2PM  STRUMMERS MTG 2-4PM
DESCRIPTION:
URL:https://schhstrummers.com/event/strum-n-tell-1-2pm-strummers-mtg-2-4pm/
END:VEVENT
BEGIN:VEVENT
DTSTART;TZID=America/New_York:20260224T120000
DTEND;TZID=America/New_York:20260224T130000
DTSTAMP:20260425T100306
CREATED:20260202T205213Z
LAST-MODIFIED:20260221T200836Z
UID:3980-1771934400-1771938000@schhstrummers.com
SUMMARY:COACH/BE COACHED COLLETON ROOM
DESCRIPTION:
URL:https://schhstrummers.com/event/coach-be-coached/
END:VEVENT
BEGIN:VEVENT
DTSTART;TZID=America/New_York:20260224T130000
DTEND;TZID=America/New_York:20260224T150000
DTSTAMP:20260425T100306
CREATED:20260202T205035Z
LAST-MODIFIED:20260202T205046Z
UID:3978-1771938000-1771945200@schhstrummers.com
SUMMARY:STRUMMERS MTG
DESCRIPTION:
URL:https://schhstrummers.com/event/strummers-mtg-4/
END:VEVENT
BEGIN:VEVENT
DTSTART;TZID=America/New_York:20260303T120000
DTEND;TZID=America/New_York:20260303T130000
DTSTAMP:20260425T100306
CREATED:20260221T201621Z
LAST-MODIFIED:20260221T201621Z
UID:4109-1772539200-1772542800@schhstrummers.com
SUMMARY:STRUM N' TELL 1-2PM
DESCRIPTION:
URL:https://schhstrummers.com/event/strum-n-tell-1-2pm-2/
END:VEVENT
BEGIN:VEVENT
DTSTART;TZID=America/New_York:20260303T130000
DTEND;TZID=America/New_York:20260303T150000
DTSTAMP:20260425T100306
CREATED:20260221T201742Z
LAST-MODIFIED:20260221T201742Z
UID:4111-1772542800-1772550000@schhstrummers.com
SUMMARY:STRUMMERS MTG COLLETON
DESCRIPTION:
URL:https://schhstrummers.com/event/strummers-mtg-colleton/
END:VEVENT
BEGIN:VEVENT
DTSTART;TZID=America/New_York:20260304T170000
DTEND;TZID=America/New_York:20260304T200000
DTSTAMP:20260425T100306
CREATED:20260221T201954Z
LAST-MODIFIED:20260221T201954Z
UID:4113-1772643600-1772654400@schhstrummers.com
SUMMARY:OPEN MIC ROSE HILL/FAIRWINDS  BAR&GRILL
DESCRIPTION:
URL:https://schhstrummers.com/event/open-mic-rose-hill-fairwinds-bargrill/
END:VEVENT
BEGIN:VEVENT
DTSTART;TZID=America/New_York:20260307T170000
DTEND;TZID=America/New_York:20260307T200000
DTSTAMP:20260425T100306
CREATED:20260221T200601Z
LAST-MODIFIED:20260221T200601Z
UID:4100-1772902800-1772913600@schhstrummers.com
SUMMARY:GINNA AT FAIRWINDS BAR&GRILL @ ROSE HILL (open to public)
DESCRIPTION:
URL:https://schhstrummers.com/event/ginna-at-fairwinds-bargrill-rose-hill-open-to-public/
END:VEVENT
BEGIN:VEVENT
DTSTART;TZID=America/New_York:20260331T130000
DTEND;TZID=America/New_York:20260331T170000
DTSTAMP:20260425T100306
CREATED:20260401T032114Z
LAST-MODIFIED:20260406T033011Z
UID:4668-1774962000-1774976400@schhstrummers.com
SUMMARY:STRUMMERS MTG 2-4  COACHING 1-2
DESCRIPTION:
URL:https://schhstrummers.com/event/strummers-mtg-2-4-coaching-1-2/
END:VEVENT
BEGIN:VEVENT
DTSTART;TZID=America/New_York:20260401T180000
DTEND;TZID=America/New_York:20260401T210000
DTSTAMP:20260425T100306
CREATED:20260331T171915Z
LAST-MODIFIED:20260331T172917Z
UID:4597-1775066400-1775077200@schhstrummers.com
SUMMARY:OPEN MIC AT ROSE HILL
DESCRIPTION:Open MIC at Rose Hill Country Club   Fairwinds Bar and Grill  (just tell the gate guard you are going to the restaurant) \n 
URL:https://schhstrummers.com/event/open-mic/
END:VEVENT
BEGIN:VEVENT
DTSTART;TZID=America/New_York:20260407T130000
DTEND;TZID=America/New_York:20260407T160000
DTSTAMP:20260425T100306
CREATED:20260406T031910Z
LAST-MODIFIED:20260406T033303Z
UID:4666-1775566800-1775577600@schhstrummers.com
SUMMARY:STRUMMERS MEETING2-4 STRUM N' TELL 1-2 EDISTO RM
DESCRIPTION:
URL:https://schhstrummers.com/event/strummers-meeting2-4-strum-n-tell-1-2/
END:VEVENT
BEGIN:VEVENT
DTSTART;TZID=America/New_York:20260408T160000
DTEND;TZID=America/New_York:20260408T180000
DTSTAMP:20260425T100306
CREATED:20260331T172919Z
LAST-MODIFIED:20260331T173343Z
UID:4600-1775664000-1775671200@schhstrummers.com
SUMMARY:Ginna@Lakehouse
DESCRIPTION:
URL:https://schhstrummers.com/event/ginnalakehouse/
END:VEVENT
BEGIN:VEVENT
DTSTART;TZID=America/New_York:20260414T130000
DTEND;TZID=America/New_York:20260414T160000
DTSTAMP:20260425T100306
CREATED:20260406T033542Z
LAST-MODIFIED:20260406T033542Z
UID:4672-1776171600-1776182400@schhstrummers.com
SUMMARY:STRUMMERS MTG 2-4 COLLETON RM COACHING1-2
DESCRIPTION:
URL:https://schhstrummers.com/event/strummers-mtg-2-4-colleton-rm-coaching1-2/
END:VEVENT
END:VCALENDAR