BEGIN:VCALENDAR
VERSION:2.0
PRODID:-//Sun City Hilton Head Strummers - ECPv6.15.20//NONSGML v1.0//EN
CALSCALE:GREGORIAN
METHOD:PUBLISH
X-WR-CALNAME:Sun City Hilton Head Strummers
X-ORIGINAL-URL:https://schhstrummers.com
X-WR-CALDESC:Events for Sun City Hilton Head Strummers
REFRESH-INTERVAL;VALUE=DURATION:PT1H
X-Robots-Tag:noindex
X-PUBLISHED-TTL:PT1H
BEGIN:VTIMEZONE
TZID:America/New_York
BEGIN:DAYLIGHT
TZOFFSETFROM:-0500
TZOFFSETTO:-0400
TZNAME:EDT
DTSTART:20230312T070000
END:DAYLIGHT
BEGIN:STANDARD
TZOFFSETFROM:-0400
TZOFFSETTO:-0500
TZNAME:EST
DTSTART:20231105T060000
END:STANDARD
BEGIN:DAYLIGHT
TZOFFSETFROM:-0500
TZOFFSETTO:-0400
TZNAME:EDT
DTSTART:20240310T070000
END:DAYLIGHT
BEGIN:STANDARD
TZOFFSETFROM:-0400
TZOFFSETTO:-0500
TZNAME:EST
DTSTART:20241103T060000
END:STANDARD
BEGIN:DAYLIGHT
TZOFFSETFROM:-0500
TZOFFSETTO:-0400
TZNAME:EDT
DTSTART:20250309T070000
END:DAYLIGHT
BEGIN:STANDARD
TZOFFSETFROM:-0400
TZOFFSETTO:-0500
TZNAME:EST
DTSTART:20251102T060000
END:STANDARD
BEGIN:DAYLIGHT
TZOFFSETFROM:-0500
TZOFFSETTO:-0400
TZNAME:EDT
DTSTART:20260308T070000
END:DAYLIGHT
BEGIN:STANDARD
TZOFFSETFROM:-0400
TZOFFSETTO:-0500
TZNAME:EST
DTSTART:20261101T060000
END:STANDARD
END:VTIMEZONE
BEGIN:VEVENT
DTSTART;TZID=America/New_York:20250128T130000
DTEND;TZID=America/New_York:20250128T150000
DTSTAMP:20260425T094137
CREATED:20250106T062635Z
LAST-MODIFIED:20250106T062643Z
UID:2619-1738069200-1738076400@schhstrummers.com
SUMMARY:NO STRUMMERS MEETING!
DESCRIPTION:
URL:https://schhstrummers.com/event/no-strummers-meeting/
END:VEVENT
BEGIN:VEVENT
DTSTART;TZID=America/New_York:20250128T100000
DTEND;TZID=America/New_York:20250128T110000
DTSTAMP:20260425T094137
CREATED:20250106T062354Z
LAST-MODIFIED:20250106T062404Z
UID:2617-1738058400-1738062000@schhstrummers.com
SUMMARY:MEMORY MATTERS ST. ANDREW'S CHAPEL
DESCRIPTION:
URL:https://schhstrummers.com/event/memory-matters-st-andrews-chapel/
END:VEVENT
BEGIN:VEVENT
DTSTART;TZID=America/New_York:20250122T110000
DTEND;TZID=America/New_York:20250122T170000
DTSTAMP:20260425T094137
CREATED:20250106T062159Z
LAST-MODIFIED:20250112T183232Z
UID:2615-1737543600-1737565200@schhstrummers.com
SUMMARY:OPEN MIC/BAND JAM COLLETON RM
DESCRIPTION:
URL:https://schhstrummers.com/event/open-mic-band-jam-colleton-rm/
END:VEVENT
BEGIN:VEVENT
DTSTART;TZID=America/New_York:20250121T130000
DTEND;TZID=America/New_York:20250121T150000
DTSTAMP:20260425T094137
CREATED:20250106T063450Z
LAST-MODIFIED:20250106T063546Z
UID:2624-1737464400-1737471600@schhstrummers.com
SUMMARY:STRUMMERS MEETING COLLETON
DESCRIPTION:
URL:https://schhstrummers.com/event/strummers-meeting-colleton-2/
END:VEVENT
BEGIN:VEVENT
DTSTART;TZID=America/New_York:20250114T160000
DTEND;TZID=America/New_York:20250114T180000
DTSTAMP:20260425T094137
CREATED:20250112T181115Z
LAST-MODIFIED:20250112T181115Z
UID:2627-1736870400-1736877600@schhstrummers.com
SUMMARY:TODD KIMMEL IRISH COFFEE 5-7 EDISTO
DESCRIPTION:
URL:https://schhstrummers.com/event/todd-kimmel-irish-coffee-5-7-edisto/
END:VEVENT
BEGIN:VEVENT
DTSTART;TZID=America/New_York:20250114T130000
DTEND;TZID=America/New_York:20250114T150000
DTSTAMP:20260425T094137
CREATED:20250106T062934Z
LAST-MODIFIED:20250106T063022Z
UID:2621-1736859600-1736866800@schhstrummers.com
SUMMARY:STRUMMERS MEETING COLLETON
DESCRIPTION:
URL:https://schhstrummers.com/event/strummers-meeting-colleton/
END:VEVENT
BEGIN:VEVENT
DTSTART;TZID=America/New_York:20250107T160000
DTEND;TZID=America/New_York:20250107T180000
DTSTAMP:20260425T094137
CREATED:20250106T061855Z
LAST-MODIFIED:20250106T063930Z
UID:2613-1736265600-1736272800@schhstrummers.com
SUMMARY:GINNA @ IRISH COFFEE
DESCRIPTION:
URL:https://schhstrummers.com/event/ginna-irish-coffee-edisto-rm/
END:VEVENT
BEGIN:VEVENT
DTSTART;TZID=America/New_York:20250107T130000
DTEND;TZID=America/New_York:20250107T150000
DTSTAMP:20260425T094137
CREATED:20250106T061709Z
LAST-MODIFIED:20250106T064320Z
UID:2611-1736254800-1736262000@schhstrummers.com
SUMMARY:STRUMMERS MEETING COLLETON
DESCRIPTION:
URL:https://schhstrummers.com/event/strummers-meeting/
END:VEVENT
BEGIN:VEVENT
DTSTART;TZID=America/New_York:20241231T130000
DTEND;TZID=America/New_York:20241231T150000
DTSTAMP:20260425T094137
CREATED:20240505T174247Z
LAST-MODIFIED:20240525T163848Z
UID:545-1735650000-1735657200@schhstrummers.com
SUMMARY:NO JAM
DESCRIPTION:
URL:https://schhstrummers.com/event/no-jam-7/
END:VEVENT
BEGIN:VEVENT
DTSTART;TZID=America/New_York:20241224T130000
DTEND;TZID=America/New_York:20241224T150000
DTSTAMP:20260425T094137
CREATED:20240505T174219Z
LAST-MODIFIED:20240505T174219Z
UID:543-1735045200-1735052400@schhstrummers.com
SUMMARY:NO JAM
DESCRIPTION:
URL:https://schhstrummers.com/event/no-jam-6/
END:VEVENT
BEGIN:VEVENT
DTSTART;TZID=America/New_York:20241217T160000
DTEND;TZID=America/New_York:20241217T180000
DTSTAMP:20260425T094137
CREATED:20241214T000125Z
LAST-MODIFIED:20241214T012236Z
UID:2561-1734451200-1734458400@schhstrummers.com
SUMMARY:KEEPIN' IT REAL-Marcella and Ryan IRISH COFFEE 5-7
DESCRIPTION:
URL:https://schhstrummers.com/event/keepin-it-real-marcella-and-ryan-irish-coffee-5-7/
END:VEVENT
BEGIN:VEVENT
DTSTART;TZID=America/New_York:20241217T130000
DTEND;TZID=America/New_York:20241217T150000
DTSTAMP:20260425T094137
CREATED:20240505T174147Z
LAST-MODIFIED:20240505T174147Z
UID:541-1734440400-1734447600@schhstrummers.com
SUMMARY:Colleton
DESCRIPTION:
URL:https://schhstrummers.com/event/colleton-15/
END:VEVENT
BEGIN:VEVENT
DTSTART;TZID=America/New_York:20241210T160000
DTEND;TZID=America/New_York:20241210T180000
DTSTAMP:20260425T094137
CREATED:20241111T051420Z
LAST-MODIFIED:20241111T051420Z
UID:2477-1733846400-1733853600@schhstrummers.com
SUMMARY:IRISH COFFEE "SWEET MAGNOLIAS" (Gina\, Cheri\, Dale)
DESCRIPTION:
URL:https://schhstrummers.com/event/irish-coffee-sweet-magnolias-gina-cheri-dale/
END:VEVENT
BEGIN:VEVENT
DTSTART;TZID=America/New_York:20241210T130000
DTEND;TZID=America/New_York:20241210T153000
DTSTAMP:20260425T094137
CREATED:20240505T174108Z
LAST-MODIFIED:20241103T200533Z
UID:539-1733835600-1733844600@schhstrummers.com
SUMMARY:CHRISTMAS PARTY MEETING 2-4:30 PAVILION
DESCRIPTION:
URL:https://schhstrummers.com/event/no-jam-5/
END:VEVENT
BEGIN:VEVENT
DTSTART;TZID=America/New_York:20241206T160000
DTEND;TZID=America/New_York:20241206T190000
DTSTAMP:20260425T094137
CREATED:20241202T011748Z
LAST-MODIFIED:20241202T011919Z
UID:2541-1733500800-1733511600@schhstrummers.com
SUMMARY:Todd\, Gina & DD Band - Fundraiser for NC 5pm PAVILION
DESCRIPTION:Fundraiser for housing for NC victims of Helene.  See DavisReliefFund.org \nMusic by Todd Kimmel\, Gina Pinkepank\, DD Band 5-8 PAVILION \n 
URL:https://schhstrummers.com/event/todd-gina-dd-band-fundraiser-for-nc-5pm/
END:VEVENT
BEGIN:VEVENT
DTSTART;TZID=America/New_York:20241203T130000
DTEND;TZID=America/New_York:20241203T150000
DTSTAMP:20260425T094137
CREATED:20240505T174008Z
LAST-MODIFIED:20240505T174008Z
UID:537-1733230800-1733238000@schhstrummers.com
SUMMARY:Colleton
DESCRIPTION:
URL:https://schhstrummers.com/event/colleton-14/
END:VEVENT
BEGIN:VEVENT
DTSTART;TZID=America/New_York:20241203T100000
DTEND;TZID=America/New_York:20241203T110000
DTSTAMP:20260425T094137
CREATED:20241202T012349Z
LAST-MODIFIED:20241202T012904Z
UID:2544-1733220000-1733223600@schhstrummers.com
SUMMARY:MEMORY MATTERS GIG St. Andrews Chapel
DESCRIPTION:
URL:https://schhstrummers.com/event/memory-matters-gig-st-andrews-chapel/
END:VEVENT
BEGIN:VEVENT
DTSTART;VALUE=DATE:20241127
DTEND;VALUE=DATE:20241129
DTSTAMP:20260425T094137
CREATED:20241103T195540Z
LAST-MODIFIED:20241103T195540Z
UID:2437-1732748400-1732834799@schhstrummers.com
SUMMARY:HAPPY THANKSGIVING!!
DESCRIPTION:
URL:https://schhstrummers.com/event/happy-thanksgiving/
END:VEVENT
BEGIN:VEVENT
DTSTART;TZID=America/New_York:20241126T130000
DTEND;TZID=America/New_York:20241126T150000
DTSTAMP:20260425T094137
CREATED:20240505T173718Z
LAST-MODIFIED:20240505T173818Z
UID:534-1732626000-1732633200@schhstrummers.com
SUMMARY:Edisto
DESCRIPTION:
URL:https://schhstrummers.com/event/colleton-13/
END:VEVENT
BEGIN:VEVENT
DTSTART;TZID=America/New_York:20241126T100000
DTEND;TZID=America/New_York:20241126T110000
DTSTAMP:20260425T094137
CREATED:20241111T050434Z
LAST-MODIFIED:20241111T050434Z
UID:2475-1732615200-1732618800@schhstrummers.com
SUMMARY:Memory Matters St. Andrew 11am
DESCRIPTION:
URL:https://schhstrummers.com/event/memory-matters-st-andrew-11am/
END:VEVENT
BEGIN:VEVENT
DTSTART;TZID=America/New_York:20241120T120000
DTEND;TZID=America/New_York:20241120T170000
DTSTAMP:20260425T094137
CREATED:20241103T200036Z
LAST-MODIFIED:20241103T200214Z
UID:2439-1732104000-1732122000@schhstrummers.com
SUMMARY:OPEN JAM 3:30-6  OPEN MIC 1-3
DESCRIPTION:
URL:https://schhstrummers.com/event/open-jam330-6-open-mic-1-3/
END:VEVENT
BEGIN:VEVENT
DTSTART;TZID=America/New_York:20241119T130000
DTEND;TZID=America/New_York:20241119T150000
DTSTAMP:20260425T094137
CREATED:20240505T173627Z
LAST-MODIFIED:20240505T173627Z
UID:532-1732021200-1732028400@schhstrummers.com
SUMMARY:Colleton
DESCRIPTION:
URL:https://schhstrummers.com/event/colleton-12/
END:VEVENT
BEGIN:VEVENT
DTSTART;TZID=America/New_York:20241116T160000
DTEND;TZID=America/New_York:20241116T170000
DTSTAMP:20260425T094137
CREATED:20241103T201551Z
LAST-MODIFIED:20241103T201551Z
UID:2445-1731772800-1731776400@schhstrummers.com
SUMMARY:TODD opening for DDBand@Crescent Pub (Golf Club)
DESCRIPTION:
URL:https://schhstrummers.com/event/todd-opening-for-ddbandcrescent-pub-golf-club/
END:VEVENT
BEGIN:VEVENT
DTSTART;TZID=America/New_York:20241112T160000
DTEND;TZID=America/New_York:20241112T180000
DTSTAMP:20260425T094137
CREATED:20241111T045744Z
LAST-MODIFIED:20241111T045821Z
UID:2469-1731427200-1731434400@schhstrummers.com
SUMMARY:IRISH COFFEE - GERRY w/REMEMBER WHEN  5-7PM EDISTO
DESCRIPTION:
URL:https://schhstrummers.com/event/irish-coffee-gerry-w-remember-when-5-7pm-edisto/
END:VEVENT
BEGIN:VEVENT
DTSTART;TZID=America/New_York:20241112T130000
DTEND;TZID=America/New_York:20241112T150000
DTSTAMP:20260425T094137
CREATED:20240505T173525Z
LAST-MODIFIED:20240505T173525Z
UID:530-1731416400-1731423600@schhstrummers.com
SUMMARY:Colleton
DESCRIPTION:
URL:https://schhstrummers.com/event/colleton-11/
END:VEVENT
BEGIN:VEVENT
DTSTART;TZID=America/New_York:20241105T130000
DTEND;TZID=America/New_York:20241105T150000
DTSTAMP:20260425T094137
CREATED:20240505T173456Z
LAST-MODIFIED:20241103T195212Z
UID:528-1730811600-1730818800@schhstrummers.com
SUMMARY:MEET IN PAVILION!! 2-4:30
DESCRIPTION:
URL:https://schhstrummers.com/event/no-jam-4/
END:VEVENT
BEGIN:VEVENT
DTSTART;TZID=America/New_York:20241029T130000
DTEND;TZID=America/New_York:20241029T150000
DTSTAMP:20260425T094137
CREATED:20240505T173425Z
LAST-MODIFIED:20241021T024717Z
UID:526-1730206800-1730214000@schhstrummers.com
SUMMARY:Edisto-HALLOWEEN PARTY! BE THE ROCK STAR YOU WANT TO BE!
DESCRIPTION:HALLOWEEN PARTY! DRESS LIKE A ROCK STAR! PICK YOUR FAVORITE! \nTRICKS AND TREATS!
URL:https://schhstrummers.com/event/edisto-13/
END:VEVENT
BEGIN:VEVENT
DTSTART;TZID=America/New_York:20241022T130000
DTEND;TZID=America/New_York:20241022T150000
DTSTAMP:20260425T094137
CREATED:20240505T173354Z
LAST-MODIFIED:20240505T173354Z
UID:524-1729602000-1729609200@schhstrummers.com
SUMMARY:Colleton
DESCRIPTION:
URL:https://schhstrummers.com/event/colleton-10/
END:VEVENT
BEGIN:VEVENT
DTSTART;TZID=America/New_York:20241018T100000
DTEND;TZID=America/New_York:20241018T110000
DTSTAMP:20260425T094137
CREATED:20240915T222040Z
LAST-MODIFIED:20241006T235806Z
UID:2296-1729245600-1729249200@schhstrummers.com
SUMMARY:Memory Matters St. Andrew's  11:00am
DESCRIPTION:
URL:https://schhstrummers.com/event/memory-matters-st-andrews-100pm/
END:VEVENT
BEGIN:VEVENT
DTSTART;TZID=America/New_York:20241017T153000
DTEND;TZID=America/New_York:20241017T190000
DTSTAMP:20260425T094137
CREATED:20240827T024356Z
LAST-MODIFIED:20240827T024417Z
UID:2192-1729179000-1729191600@schhstrummers.com
SUMMARY:MUSIC GUILD GALA!! 4:30-8:00 HIDDEN CYPRESS
DESCRIPTION:Must sign-up and pay in advance $20pp\nDJ Danny\nBuffet Dinner\nBYOB
URL:https://schhstrummers.com/event/music-guild-gala-430-800-hidden-cypress/
END:VEVENT
END:VCALENDAR