BEGIN:VCALENDAR
VERSION:2.0
PRODID:-//Sun City Hilton Head Strummers - ECPv6.15.20//NONSGML v1.0//EN
CALSCALE:GREGORIAN
METHOD:PUBLISH
X-WR-CALNAME:Sun City Hilton Head Strummers
X-ORIGINAL-URL:https://schhstrummers.com
X-WR-CALDESC:Events for Sun City Hilton Head Strummers
REFRESH-INTERVAL;VALUE=DURATION:PT1H
X-Robots-Tag:noindex
X-PUBLISHED-TTL:PT1H
BEGIN:VTIMEZONE
TZID:America/New_York
BEGIN:DAYLIGHT
TZOFFSETFROM:-0500
TZOFFSETTO:-0400
TZNAME:EDT
DTSTART:20240310T070000
END:DAYLIGHT
BEGIN:STANDARD
TZOFFSETFROM:-0400
TZOFFSETTO:-0500
TZNAME:EST
DTSTART:20241103T060000
END:STANDARD
BEGIN:DAYLIGHT
TZOFFSETFROM:-0500
TZOFFSETTO:-0400
TZNAME:EDT
DTSTART:20250309T070000
END:DAYLIGHT
BEGIN:STANDARD
TZOFFSETFROM:-0400
TZOFFSETTO:-0500
TZNAME:EST
DTSTART:20251102T060000
END:STANDARD
BEGIN:DAYLIGHT
TZOFFSETFROM:-0500
TZOFFSETTO:-0400
TZNAME:EDT
DTSTART:20260308T070000
END:DAYLIGHT
BEGIN:STANDARD
TZOFFSETFROM:-0400
TZOFFSETTO:-0500
TZNAME:EST
DTSTART:20261101T060000
END:STANDARD
BEGIN:DAYLIGHT
TZOFFSETFROM:-0500
TZOFFSETTO:-0400
TZNAME:EDT
DTSTART:20270314T070000
END:DAYLIGHT
BEGIN:STANDARD
TZOFFSETFROM:-0400
TZOFFSETTO:-0500
TZNAME:EST
DTSTART:20271107T060000
END:STANDARD
END:VTIMEZONE
BEGIN:VEVENT
DTSTART;TZID=America/New_York:20251016T163000
DTEND;TZID=America/New_York:20251016T193000
DTSTAMP:20260425T083059
CREATED:20251017T003231Z
LAST-MODIFIED:20251014T003804Z
UID:3707-1760632200-1760643000@schhstrummers.com
SUMMARY:MUSIC GUILD "OKTOBERFEST" GALA 5:30-8:30 PINCKNEY HALL
DESCRIPTION:
URL:https://schhstrummers.com/event/music-guild-oktoberfest-gala-530-830-pinckney-hall/
END:VEVENT
BEGIN:VEVENT
DTSTART;TZID=America/New_York:20251021T130000
DTEND;TZID=America/New_York:20251021T150000
DTSTAMP:20260425T083059
CREATED:20250901T222907Z
LAST-MODIFIED:20250901T223020Z
UID:3493-1761051600-1761058800@schhstrummers.com
SUMMARY:Strummers Meeting. EDISTO RM
DESCRIPTION:
URL:https://schhstrummers.com/event/strummers-meeting-edisto-rm-5/
END:VEVENT
BEGIN:VEVENT
DTSTART;TZID=America/New_York:20251028T130000
DTEND;TZID=America/New_York:20251028T150000
DTSTAMP:20260425T083059
CREATED:20250901T223151Z
LAST-MODIFIED:20250901T223151Z
UID:3495-1761656400-1761663600@schhstrummers.com
SUMMARY:Strummers Mtg EDISTO RM
DESCRIPTION:
URL:https://schhstrummers.com/event/strummers-mtg-edisto-rm-4/
END:VEVENT
BEGIN:VEVENT
DTSTART;TZID=America/New_York:20251029T150000
DTEND;TZID=America/New_York:20251029T170000
DTSTAMP:20260425T083059
CREATED:20250901T232514Z
LAST-MODIFIED:20250901T232908Z
UID:3518-1761750000-1761757200@schhstrummers.com
SUMMARY:Strummers own Todd Kimmel @Hidden Cypress
DESCRIPTION:
URL:https://schhstrummers.com/event/strummers-todd-kimmel-hidden-cypress/
END:VEVENT
BEGIN:VEVENT
DTSTART;TZID=America/New_York:20251104T130000
DTEND;TZID=America/New_York:20251104T150000
DTSTAMP:20260425T083059
CREATED:20250901T223617Z
LAST-MODIFIED:20250901T223617Z
UID:3497-1762261200-1762268400@schhstrummers.com
SUMMARY:Strummers Mtg EDISTO RM
DESCRIPTION:
URL:https://schhstrummers.com/event/strummers-mtg-edisto-rm-5/
END:VEVENT
BEGIN:VEVENT
DTSTART;TZID=America/New_York:20251105T153000
DTEND;TZID=America/New_York:20251105T193000
DTSTAMP:20260425T083059
CREATED:20251028T013443Z
LAST-MODIFIED:20251028T013443Z
UID:3722-1762356600-1762371000@schhstrummers.com
SUMMARY:Low Country Jam @ Tailgators 4:30-8:30
DESCRIPTION:Open Rock Jam
URL:https://schhstrummers.com/event/low-country-jam-tailgators-430-830/
END:VEVENT
BEGIN:VEVENT
DTSTART;TZID=America/New_York:20251111T070000
DTEND;TZID=America/New_York:20251111T160000
DTSTAMP:20260425T083059
CREATED:20251111T060523Z
LAST-MODIFIED:20251111T060523Z
UID:3766-1762844400-1762876800@schhstrummers.com
SUMMARY:Strummers Mtg Edisto Rm2-4 STRUM n TELL 1:00
DESCRIPTION:
URL:https://schhstrummers.com/event/strummers-mtg-edisto-rm2-4-strum-n-tell-100/
END:VEVENT
BEGIN:VEVENT
DTSTART;TZID=America/New_York:20251111T130000
DTEND;TZID=America/New_York:20251111T150000
DTSTAMP:20260425T083059
CREATED:20250901T223834Z
LAST-MODIFIED:20251111T054300Z
UID:3501-1762866000-1762873200@schhstrummers.com
SUMMARY:Strummers Mtg COLLETON RM
DESCRIPTION:
URL:https://schhstrummers.com/event/strummers-mtg-2/
END:VEVENT
BEGIN:VEVENT
DTSTART;TZID=America/New_York:20251112T160000
DTEND;TZID=America/New_York:20251112T180000
DTSTAMP:20260425T083059
CREATED:20251028T013120Z
LAST-MODIFIED:20251028T013146Z
UID:3720-1762963200-1762970400@schhstrummers.com
SUMMARY:IRISH COFFEE-Sweet Magnolias Gina\, Cheri\, Dale 5-7pm
DESCRIPTION:
URL:https://schhstrummers.com/event/irish-coffee-sweet-magnolias-gina-cheri-dale-5-7pm/
END:VEVENT
BEGIN:VEVENT
DTSTART;TZID=America/New_York:20251113T160000
DTEND;TZID=America/New_York:20251113T180000
DTSTAMP:20260425T083059
CREATED:20251028T013740Z
LAST-MODIFIED:20251028T013740Z
UID:3724-1763049600-1763056800@schhstrummers.com
SUMMARY:IRISH COFFEE-Carolina Girls (Rebecca Bleithman)5-7
DESCRIPTION:
URL:https://schhstrummers.com/event/irish-coffee-carolina-girls-rebecca-bleithman5-7/
END:VEVENT
BEGIN:VEVENT
DTSTART;TZID=America/New_York:20251114T160000
DTEND;TZID=America/New_York:20251114T180000
DTSTAMP:20260425T083059
CREATED:20251028T012514Z
LAST-MODIFIED:20251028T012514Z
UID:3718-1763136000-1763143200@schhstrummers.com
SUMMARY:IRISH COFFEE -Gerry Cohen/Sue Staton- Remember When Band
DESCRIPTION:
URL:https://schhstrummers.com/event/irish-coffee-gerry-cohen-sue-staton-remember-when-band/
END:VEVENT
BEGIN:VEVENT
DTSTART;TZID=America/New_York:20251118T100000
DTEND;TZID=America/New_York:20251118T104500
DTSTAMP:20260425T083059
CREATED:20251111T053626Z
LAST-MODIFIED:20251111T054528Z
UID:3764-1763460000-1763462700@schhstrummers.com
SUMMARY:Strummers Gig-Memory Matters
DESCRIPTION:
URL:https://schhstrummers.com/event/strummers-gig-memory-matters-2/
END:VEVENT
BEGIN:VEVENT
DTSTART;TZID=America/New_York:20251118T130000
DTEND;TZID=America/New_York:20251118T150000
DTSTAMP:20260425T083059
CREATED:20250901T223749Z
LAST-MODIFIED:20251111T053752Z
UID:3499-1763470800-1763478000@schhstrummers.com
SUMMARY:Strummers Mtg  COLLETON RM
DESCRIPTION:
URL:https://schhstrummers.com/event/strummers-mtg/
END:VEVENT
BEGIN:VEVENT
DTSTART;TZID=America/New_York:20251118T160000
DTEND;TZID=America/New_York:20251118T180000
DTSTAMP:20260425T083059
CREATED:20251028T014057Z
LAST-MODIFIED:20251028T014302Z
UID:3728-1763481600-1763488800@schhstrummers.com
SUMMARY:IRISH COFFEE Mt.Strings 5-7 Nancy B
DESCRIPTION:
URL:https://schhstrummers.com/event/irish-coffee-mt-strings-5-7-nancy-b/
END:VEVENT
BEGIN:VEVENT
DTSTART;TZID=America/New_York:20251125T130000
DTEND;TZID=America/New_York:20251125T150000
DTSTAMP:20260425T083059
CREATED:20250901T223923Z
LAST-MODIFIED:20250901T224522Z
UID:3503-1764075600-1764082800@schhstrummers.com
SUMMARY:Strummers Mtg COLLETON RM
DESCRIPTION:
URL:https://schhstrummers.com/event/strummers-mtg-3/
END:VEVENT
BEGIN:VEVENT
DTSTART;TZID=America/New_York:20251202T070000
DTEND;TZID=America/New_York:20251202T160000
DTSTAMP:20260425T083059
CREATED:20251201T172851Z
LAST-MODIFIED:20251201T173034Z
UID:3815-1764658800-1764691200@schhstrummers.com
SUMMARY:MEMORY MATTERS GIG 11AM ST. ANDREWS
DESCRIPTION:
URL:https://schhstrummers.com/event/memory-matters-gig-11am-st-andrews/
END:VEVENT
BEGIN:VEVENT
DTSTART;TZID=America/New_York:20251202T120000
DTEND;TZID=America/New_York:20251202T150000
DTSTAMP:20260425T083059
CREATED:20251111T060736Z
LAST-MODIFIED:20251111T060736Z
UID:3768-1764676800-1764687600@schhstrummers.com
SUMMARY:Strummers Mtg EDISTO RM 2-4. STRUM n TELL 1:00
DESCRIPTION:
URL:https://schhstrummers.com/event/strummers-mtg-edisto-rm-2-4-strum-n-tell-100/
END:VEVENT
BEGIN:VEVENT
DTSTART;TZID=America/New_York:20251209T070000
DTEND;TZID=America/New_York:20251209T160000
DTSTAMP:20260425T083059
CREATED:20251201T173230Z
LAST-MODIFIED:20251201T173230Z
UID:3817-1765263600-1765296000@schhstrummers.com
SUMMARY:KEEPIN' IT REAL MARCELLA & RYAN IRISH COFFEE 5-7
DESCRIPTION:
URL:https://schhstrummers.com/event/keepin-it-real-marcella-ryan-irish-coffee-5-7/
END:VEVENT
BEGIN:VEVENT
DTSTART;TZID=America/New_York:20251209T130000
DTEND;TZID=America/New_York:20251209T150000
DTSTAMP:20260425T083059
CREATED:20250901T224038Z
LAST-MODIFIED:20250901T224038Z
UID:3505-1765285200-1765292400@schhstrummers.com
SUMMARY:Strummers Mtg COLLETON RM
DESCRIPTION:
URL:https://schhstrummers.com/event/strummers-mtg-colleton-rm-4/
END:VEVENT
BEGIN:VEVENT
DTSTART;TZID=America/New_York:20251216T130000
DTEND;TZID=America/New_York:20251216T150000
DTSTAMP:20260425T083059
CREATED:20250901T224127Z
LAST-MODIFIED:20250901T224127Z
UID:3507-1765890000-1765897200@schhstrummers.com
SUMMARY:Strummers Mtg COLLETON RM
DESCRIPTION:
URL:https://schhstrummers.com/event/strummers-mtg-colleton-rm-5/
END:VEVENT
BEGIN:VEVENT
DTSTART;TZID=America/New_York:20251223T130000
DTEND;TZID=America/New_York:20251223T150000
DTSTAMP:20260425T083059
CREATED:20250901T224243Z
LAST-MODIFIED:20250901T224252Z
UID:3509-1766494800-1766502000@schhstrummers.com
SUMMARY:Strummers Mtg. COLLETON RM
DESCRIPTION:
URL:https://schhstrummers.com/event/strummers-mtg-colleton-rm-6/
END:VEVENT
BEGIN:VEVENT
DTSTART;TZID=America/New_York:20251230T130000
DTEND;TZID=America/New_York:20251230T150000
DTSTAMP:20260425T083059
CREATED:20250901T224853Z
LAST-MODIFIED:20250901T224853Z
UID:3514-1767099600-1767106800@schhstrummers.com
SUMMARY:NO ROOM SCHEDULED FOR STRUMMERS MEETING
DESCRIPTION:
URL:https://schhstrummers.com/event/no-room-scheduled-for-strummers-meeting/
END:VEVENT
BEGIN:VEVENT
DTSTART;TZID=America/New_York:20260106T120000
DTEND;TZID=America/New_York:20260106T150000
DTSTAMP:20260425T083059
CREATED:20251222T184434Z
LAST-MODIFIED:20251222T184434Z
UID:3862-1767700800-1767711600@schhstrummers.com
SUMMARY:STRUM N' TELL 1-2/MEETING EDISTO RM 2-4
DESCRIPTION:
URL:https://schhstrummers.com/event/strum-n-tell-1-2-meeting-edisto-rm-2-4/
END:VEVENT
BEGIN:VEVENT
DTSTART;TZID=America/New_York:20260113T120000
DTEND;TZID=America/New_York:20260113T150000
DTSTAMP:20260425T083059
CREATED:20260112T214710Z
LAST-MODIFIED:20260112T214710Z
UID:3910-1768305600-1768316400@schhstrummers.com
SUMMARY:STRUMMERS MTG/COACHING COLLETON RM 1-4
DESCRIPTION:
URL:https://schhstrummers.com/event/strummers-mtg-coaching-colleton-rm-1-4/
END:VEVENT
BEGIN:VEVENT
DTSTART;TZID=America/New_York:20260113T160000
DTEND;TZID=America/New_York:20260113T180000
DTSTAMP:20260425T083059
CREATED:20260105T222928Z
LAST-MODIFIED:20260105T222928Z
UID:3887-1768320000-1768327200@schhstrummers.com
SUMMARY:IRISH COFFEE-Todd Kimmel 5-7pm Edisto
DESCRIPTION:
URL:https://schhstrummers.com/event/irish-coffee-todd-kimmel-5-7pm-edisto/
END:VEVENT
BEGIN:VEVENT
DTSTART;TZID=America/New_York:20260119T070000
DTEND;TZID=America/New_York:20260119T160000
DTSTAMP:20260425T083059
CREATED:20260119T175109Z
LAST-MODIFIED:20260119T175109Z
UID:3948-1768806000-1768838400@schhstrummers.com
SUMMARY:STRUMMERS MTG 2-4 COACH/BECOACHED 1-2 LAKEHOUSE/BAYSIDE
DESCRIPTION:
URL:https://schhstrummers.com/event/strummers-mtg-2-4-coach-becoached-1-2-lakehouse-bayside/
END:VEVENT
BEGIN:VEVENT
DTSTART;TZID=America/New_York:20260120T120000
DTEND;TZID=America/New_York:20260120T150000
DTSTAMP:20260425T083059
CREATED:20260112T215201Z
LAST-MODIFIED:20260112T215201Z
UID:3916-1768910400-1768921200@schhstrummers.com
SUMMARY:STRUMMERS MTG/COACH 1-4 COLLETON RM
DESCRIPTION:
URL:https://schhstrummers.com/event/strummers-mtg-coach-1-4-colleton-rm/
END:VEVENT
BEGIN:VEVENT
DTSTART;TZID=America/New_York:20260120T160000
DTEND;TZID=America/New_York:20260120T180000
DTSTAMP:20260425T083059
CREATED:20260105T223237Z
LAST-MODIFIED:20260105T223237Z
UID:3890-1768924800-1768932000@schhstrummers.com
SUMMARY:IRISH COFFEE - KEEPIN IT REAL (Marcella & Ryan)
DESCRIPTION:
URL:https://schhstrummers.com/event/irish-coffee-keepin-it-real-marcella-ryan-2/
END:VEVENT
BEGIN:VEVENT
DTSTART;TZID=America/New_York:20260127T120000
DTEND;TZID=America/New_York:20260127T150000
DTSTAMP:20260425T083059
CREATED:20260119T172621Z
LAST-MODIFIED:20260119T172700Z
UID:3943-1769515200-1769526000@schhstrummers.com
SUMMARY:NO ROOM ASSIGNED!!
DESCRIPTION:
URL:https://schhstrummers.com/event/no-room-assigned-3/
END:VEVENT
BEGIN:VEVENT
DTSTART;TZID=America/New_York:20260203T120000
DTEND;TZID=America/New_York:20260203T150000
DTSTAMP:20260425T083059
CREATED:20260119T174759Z
LAST-MODIFIED:20260119T174816Z
UID:3946-1770120000-1770130800@schhstrummers.com
SUMMARY:STRUMMERS MTG 2-4 - STRUM N' TELL 1-2COLLETON
DESCRIPTION:
URL:https://schhstrummers.com/event/strummers-mtg-2-4-strum-n-tell-1-2colleton/
END:VEVENT
END:VCALENDAR