BEGIN:VCALENDAR
VERSION:2.0
PRODID:-//Sun City Hilton Head Strummers - ECPv6.15.20//NONSGML v1.0//EN
CALSCALE:GREGORIAN
METHOD:PUBLISH
X-WR-CALNAME:Sun City Hilton Head Strummers
X-ORIGINAL-URL:https://schhstrummers.com
X-WR-CALDESC:Events for Sun City Hilton Head Strummers
REFRESH-INTERVAL;VALUE=DURATION:PT1H
X-Robots-Tag:noindex
X-PUBLISHED-TTL:PT1H
BEGIN:VTIMEZONE
TZID:America/New_York
BEGIN:DAYLIGHT
TZOFFSETFROM:-0500
TZOFFSETTO:-0400
TZNAME:EDT
DTSTART:20240310T070000
END:DAYLIGHT
BEGIN:STANDARD
TZOFFSETFROM:-0400
TZOFFSETTO:-0500
TZNAME:EST
DTSTART:20241103T060000
END:STANDARD
BEGIN:DAYLIGHT
TZOFFSETFROM:-0500
TZOFFSETTO:-0400
TZNAME:EDT
DTSTART:20250309T070000
END:DAYLIGHT
BEGIN:STANDARD
TZOFFSETFROM:-0400
TZOFFSETTO:-0500
TZNAME:EST
DTSTART:20251102T060000
END:STANDARD
BEGIN:DAYLIGHT
TZOFFSETFROM:-0500
TZOFFSETTO:-0400
TZNAME:EDT
DTSTART:20260308T070000
END:DAYLIGHT
BEGIN:STANDARD
TZOFFSETFROM:-0400
TZOFFSETTO:-0500
TZNAME:EST
DTSTART:20261101T060000
END:STANDARD
END:VTIMEZONE
BEGIN:VEVENT
DTSTART;TZID=America/New_York:20250611T160000
DTEND;TZID=America/New_York:20250611T180000
DTSTAMP:20260425T110950
CREATED:20250506T160844Z
LAST-MODIFIED:20250506T160912Z
UID:3071-1749657600-1749664800@schhstrummers.com
SUMMARY:GINNA @ LAKEHOUSE POOL 5-7PM
DESCRIPTION:
URL:https://schhstrummers.com/event/ginna-lakehouse-pool-5-7pm/
END:VEVENT
BEGIN:VEVENT
DTSTART;TZID=America/New_York:20250617T130000
DTEND;TZID=America/New_York:20250617T150000
DTSTAMP:20260425T110950
CREATED:20250407T040906Z
LAST-MODIFIED:20250407T041019Z
UID:2983-1750165200-1750172400@schhstrummers.com
SUMMARY:STRUMMERS MTG 2-4 EDISTO
DESCRIPTION:
URL:https://schhstrummers.com/event/strummers-mtg-2-4/
END:VEVENT
BEGIN:VEVENT
DTSTART;TZID=America/New_York:20250618T160000
DTEND;TZID=America/New_York:20250618T180000
DTSTAMP:20260425T110950
CREATED:20250604T000830Z
LAST-MODIFIED:20250604T000830Z
UID:3228-1750262400-1750269600@schhstrummers.com
SUMMARY:Todd at Hidden Cypress Pool
DESCRIPTION:
URL:https://schhstrummers.com/event/todd-at-hidden-cypress-pool/
END:VEVENT
BEGIN:VEVENT
DTSTART;TZID=America/New_York:20250618T170000
DTEND;TZID=America/New_York:20250618T200000
DTSTAMP:20260425T110950
CREATED:20250506T161304Z
LAST-MODIFIED:20250506T161304Z
UID:3073-1750266000-1750276800@schhstrummers.com
SUMMARY:GINNA @ Lincoln & South Brewery HHI 6-9
DESCRIPTION:
URL:https://schhstrummers.com/event/ginna-lincoln-south-brewery-hhi-6-9-2/
LOCATION:Lincoln & South Brewery\, Island Drive\, Hilton Head Island
END:VEVENT
BEGIN:VEVENT
DTSTART;TZID=America/New_York:20250624T130000
DTEND;TZID=America/New_York:20250624T150000
DTSTAMP:20260425T110950
CREATED:20250407T041133Z
LAST-MODIFIED:20250407T041133Z
UID:2986-1750770000-1750777200@schhstrummers.com
SUMMARY:STRUMMERS MTG 2-4 COLLETON
DESCRIPTION:
URL:https://schhstrummers.com/event/strummers-mtg-2-4-colleton-2/
END:VEVENT
BEGIN:VEVENT
DTSTART;TZID=America/New_York:20250701T101500
DTEND;TZID=America/New_York:20250701T110000
DTSTAMP:20260425T110950
CREATED:20250617T014806Z
LAST-MODIFIED:20250617T014806Z
UID:3275-1751364900-1751367600@schhstrummers.com
SUMMARY:Memory Matters Gig
DESCRIPTION:
URL:https://schhstrummers.com/event/memory-matters-gig/
END:VEVENT
BEGIN:VEVENT
DTSTART;TZID=America/New_York:20250701T130000
DTEND;TZID=America/New_York:20250701T150000
DTSTAMP:20260425T110950
CREATED:20250517T205217Z
LAST-MODIFIED:20250517T205238Z
UID:3132-1751374800-1751382000@schhstrummers.com
SUMMARY:Strummers Meeting EDISTO RM 2-4PM
DESCRIPTION:
URL:https://schhstrummers.com/event/strummers-meeting-edisto-rm-2-4pm/
END:VEVENT
BEGIN:VEVENT
DTSTART;TZID=America/New_York:20250708T130000
DTEND;TZID=America/New_York:20250708T150000
DTSTAMP:20260425T110950
CREATED:20250517T205413Z
LAST-MODIFIED:20250517T205413Z
UID:3134-1751979600-1751986800@schhstrummers.com
SUMMARY:Strummers Meeting EDISTO RM 2-4PM
DESCRIPTION:
URL:https://schhstrummers.com/event/strummers-meeting-edisto-rm-2-4pm-2/
END:VEVENT
BEGIN:VEVENT
DTSTART;TZID=America/New_York:20250709T160000
DTEND;TZID=America/New_York:20250709T180000
DTSTAMP:20260425T110950
CREATED:20250506T161542Z
LAST-MODIFIED:20250506T161542Z
UID:3075-1752076800-1752084000@schhstrummers.com
SUMMARY:GINNA @ LAKEHOUSE POOL 5-7PM
DESCRIPTION:
URL:https://schhstrummers.com/event/ginna-lakehouse-pool-5-7pm-2/
END:VEVENT
BEGIN:VEVENT
DTSTART;TZID=America/New_York:20250715T130000
DTEND;TZID=America/New_York:20250715T150000
DTSTAMP:20260425T110950
CREATED:20250517T205524Z
LAST-MODIFIED:20250517T205524Z
UID:3136-1752584400-1752591600@schhstrummers.com
SUMMARY:Strummers Meeting EDISTO RM 2-4PM
DESCRIPTION:
URL:https://schhstrummers.com/event/strummers-meeting-edisto-rm-2-4pm-3/
END:VEVENT
BEGIN:VEVENT
DTSTART;TZID=America/New_York:20250716T160000
DTEND;TZID=America/New_York:20250716T180000
DTSTAMP:20260425T110950
CREATED:20250506T161740Z
LAST-MODIFIED:20250506T161906Z
UID:3077-1752681600-1752688800@schhstrummers.com
SUMMARY:SWEET MAGNOLIAS (FELLOW STRUMMERS (Gina\, Cheri\, Dale)
DESCRIPTION:
URL:https://schhstrummers.com/event/sweet-magnolias-fellow-strummers-gina-cheri-dale/
END:VEVENT
BEGIN:VEVENT
DTSTART;TZID=America/New_York:20250722T130000
DTEND;TZID=America/New_York:20250722T150000
DTSTAMP:20260425T110950
CREATED:20250517T205705Z
LAST-MODIFIED:20250517T205705Z
UID:3138-1753189200-1753196400@schhstrummers.com
SUMMARY:Strummers Meeting COLLETON RM 2-4pm
DESCRIPTION:
URL:https://schhstrummers.com/event/strummers-meeting-colleton-rm-2-4pm/
END:VEVENT
BEGIN:VEVENT
DTSTART;TZID=America/New_York:20250729T130000
DTEND;TZID=America/New_York:20250729T150000
DTSTAMP:20260425T110950
CREATED:20250517T205824Z
LAST-MODIFIED:20250517T205834Z
UID:3140-1753794000-1753801200@schhstrummers.com
SUMMARY:Strummers Meeting EDISTO RM 2-4pm
DESCRIPTION:
URL:https://schhstrummers.com/event/strummers-meeting-edisto-rm-2-4pm-4/
END:VEVENT
BEGIN:VEVENT
DTSTART;TZID=America/New_York:20250805T130000
DTEND;TZID=America/New_York:20250805T150000
DTSTAMP:20260425T110950
CREATED:20250707T025252Z
LAST-MODIFIED:20250707T025252Z
UID:3320-1754398800-1754406000@schhstrummers.com
SUMMARY:STRUMMERS MEETING EDISTO RM
DESCRIPTION:
URL:https://schhstrummers.com/event/strummers-meeting-edisto-rm-2/
END:VEVENT
BEGIN:VEVENT
DTSTART;TZID=America/New_York:20250812T130000
DTEND;TZID=America/New_York:20250812T150000
DTSTAMP:20260425T110950
CREATED:20250621T192402Z
LAST-MODIFIED:20250621T192456Z
UID:3288-1755003600-1755010800@schhstrummers.com
SUMMARY:Strummers Meeting RIVERBEND!
DESCRIPTION:
URL:https://schhstrummers.com/event/strummers-meeting-riverbend/
END:VEVENT
BEGIN:VEVENT
DTSTART;TZID=America/New_York:20250819T130000
DTEND;TZID=America/New_York:20250819T150000
DTSTAMP:20260425T110950
CREATED:20250707T025524Z
LAST-MODIFIED:20250707T025524Z
UID:3322-1755608400-1755615600@schhstrummers.com
SUMMARY:STRUMMERS MEETING  EDISTO RM
DESCRIPTION:
URL:https://schhstrummers.com/event/strummers-meeting-edisto-rm-3/
END:VEVENT
BEGIN:VEVENT
DTSTART;TZID=America/New_York:20250826T130000
DTEND;TZID=America/New_York:20250826T150000
DTSTAMP:20260425T110950
CREATED:20250707T025704Z
LAST-MODIFIED:20250707T025714Z
UID:3324-1756213200-1756220400@schhstrummers.com
SUMMARY:STRUMMERS MEETING  EDISTO RM
DESCRIPTION:
URL:https://schhstrummers.com/event/strummers-meeting-edisto-rm-4/
END:VEVENT
BEGIN:VEVENT
DTSTART;TZID=America/New_York:20250827T160000
DTEND;TZID=America/New_York:20250827T180000
DTSTAMP:20260425T110950
CREATED:20250506T162108Z
LAST-MODIFIED:20250506T162108Z
UID:3079-1756310400-1756317600@schhstrummers.com
SUMMARY:SWEET MAGNOLIAS (FELLOW STRUMMERS Gina\, Cheri\, Dale) HIDDEN CYPRESS POOL 5-7
DESCRIPTION:
URL:https://schhstrummers.com/event/sweet-magnolias-fellow-strummers-gina-cheri-dale-hidden-cypress-pool-5-7/
END:VEVENT
BEGIN:VEVENT
DTSTART;TZID=America/New_York:20250902T130000
DTEND;TZID=America/New_York:20250902T150000
DTSTAMP:20260425T110950
CREATED:20250901T214307Z
LAST-MODIFIED:20250901T214307Z
UID:3460-1756818000-1756825200@schhstrummers.com
SUMMARY:Strummers Mtg EDISTO RM
DESCRIPTION:
URL:https://schhstrummers.com/event/strummers-mtg-edisto-rm/
END:VEVENT
BEGIN:VEVENT
DTSTART;TZID=America/New_York:20250903T170000
DTEND;TZID=America/New_York:20250903T200000
DTSTAMP:20260425T110950
CREATED:20250901T220533Z
LAST-MODIFIED:20250901T220533Z
UID:3479-1756918800-1756929600@schhstrummers.com
SUMMARY:Lot 9 Brewery Open Mic
DESCRIPTION:
URL:https://schhstrummers.com/event/lot-9-brewery-open-mic/
END:VEVENT
BEGIN:VEVENT
DTSTART;TZID=America/New_York:20250909T101500
DTEND;TZID=America/New_York:20250909T110000
DTSTAMP:20260425T110950
CREATED:20250901T220338Z
LAST-MODIFIED:20250901T220338Z
UID:3477-1757412900-1757415600@schhstrummers.com
SUMMARY:Memory Matters Gig
DESCRIPTION:
URL:https://schhstrummers.com/event/memory-matters-gig-2/
END:VEVENT
BEGIN:VEVENT
DTSTART;TZID=America/New_York:20250909T130000
DTEND;TZID=America/New_York:20250909T150000
DTSTAMP:20260425T110950
CREATED:20250901T214504Z
LAST-MODIFIED:20250901T214504Z
UID:3462-1757422800-1757430000@schhstrummers.com
SUMMARY:strummers Mtg. COLLETON RM
DESCRIPTION:
URL:https://schhstrummers.com/event/strummers-mtg-colleton-rm/
END:VEVENT
BEGIN:VEVENT
DTSTART;TZID=America/New_York:20250910T150000
DTEND;TZID=America/New_York:20250910T200000
DTSTAMP:20260425T110950
CREATED:20250901T221218Z
LAST-MODIFIED:20250908T032504Z
UID:3481-1757516400-1757534400@schhstrummers.com
SUMMARY:Tailgators Band Jam
DESCRIPTION:Open to Sun City Residents and local musicians to participate and free to Al who just want to listen. *Must pre-register to participate.  Contact Gordon Smith at Joy_road@yahoo.com
URL:https://schhstrummers.com/event/tailgaters-band-jam/
END:VEVENT
BEGIN:VEVENT
DTSTART;TZID=America/New_York:20250916T130000
DTEND;TZID=America/New_York:20250916T150000
DTSTAMP:20260425T110950
CREATED:20250901T214708Z
LAST-MODIFIED:20250908T031738Z
UID:3464-1758027600-1758034800@schhstrummers.com
SUMMARY:Strummers Mtg. RIVERBEND RM (1:15 rehearse for Music on the Grounds)
DESCRIPTION:
URL:https://schhstrummers.com/event/strummers-mtg-edisto-rm-2/
END:VEVENT
BEGIN:VEVENT
DTSTART;TZID=America/New_York:20250917T150000
DTEND;TZID=America/New_York:20250917T170000
DTSTAMP:20260425T110950
CREATED:20250901T215849Z
LAST-MODIFIED:20250901T215849Z
UID:3473-1758121200-1758128400@schhstrummers.com
SUMMARY:SweetMagnolias Lakehouse Pool
DESCRIPTION:
URL:https://schhstrummers.com/event/sweetmagnolias-lakehouse-pool/
END:VEVENT
BEGIN:VEVENT
DTSTART;TZID=America/New_York:20250923T130000
DTEND;TZID=America/New_York:20250923T150000
DTSTAMP:20260425T110950
CREATED:20250901T214924Z
LAST-MODIFIED:20250921T214634Z
UID:3466-1758632400-1758639600@schhstrummers.com
SUMMARY:Strummers Mtg  COLLETON RM (1:00 Rehearse for Music on Grounds)
DESCRIPTION:
URL:https://schhstrummers.com/event/strummers-mtg-colleton-rm-2/
END:VEVENT
BEGIN:VEVENT
DTSTART;TZID=America/New_York:20250924T150000
DTEND;TZID=America/New_York:20250924T170000
DTSTAMP:20260425T110950
CREATED:20250901T220103Z
LAST-MODIFIED:20250901T220103Z
UID:3475-1758726000-1758733200@schhstrummers.com
SUMMARY:Gina Pinkepank Lakehouse Pool
DESCRIPTION:
URL:https://schhstrummers.com/event/gina-pinkepank-lakehouse-pool/
END:VEVENT
BEGIN:VEVENT
DTSTART;TZID=America/New_York:20250927T100000
DTEND;TZID=America/New_York:20250927T150000
DTSTAMP:20260425T110950
CREATED:20250901T215443Z
LAST-MODIFIED:20250901T215703Z
UID:3470-1758967200-1758985200@schhstrummers.com
SUMMARY:MUSIC ON THE GROUNDS
DESCRIPTION:
URL:https://schhstrummers.com/event/strummers-performance-music-on-the-grounds/
END:VEVENT
BEGIN:VEVENT
DTSTART;TZID=America/New_York:20250930T130000
DTEND;TZID=America/New_York:20250930T150000
DTSTAMP:20260425T110950
CREATED:20250901T215123Z
LAST-MODIFIED:20250908T033130Z
UID:3468-1759237200-1759244400@schhstrummers.com
SUMMARY:Strummers Mtg EDISTO RM (1:15 Showcase)
DESCRIPTION:
URL:https://schhstrummers.com/event/strummers-mtg-edisto-rm-3/
END:VEVENT
BEGIN:VEVENT
DTSTART;TZID=America/New_York:20251001T170000
DTEND;TZID=America/New_York:20251001T200000
DTSTAMP:20260425T110950
CREATED:20250901T232757Z
LAST-MODIFIED:20250901T232757Z
UID:3520-1759338000-1759348800@schhstrummers.com
SUMMARY:Lot 9 Brewery Open Mic
DESCRIPTION:
URL:https://schhstrummers.com/event/lot-9-brewery-open-mic-2/
END:VEVENT
END:VCALENDAR