BEGIN:VCALENDAR
VERSION:2.0
PRODID:-//Sun City Hilton Head Strummers - ECPv6.15.20//NONSGML v1.0//EN
CALSCALE:GREGORIAN
METHOD:PUBLISH
X-WR-CALNAME:Sun City Hilton Head Strummers
X-ORIGINAL-URL:https://schhstrummers.com
X-WR-CALDESC:Events for Sun City Hilton Head Strummers
REFRESH-INTERVAL;VALUE=DURATION:PT1H
X-Robots-Tag:noindex
X-PUBLISHED-TTL:PT1H
BEGIN:VTIMEZONE
TZID:America/New_York
BEGIN:DAYLIGHT
TZOFFSETFROM:-0500
TZOFFSETTO:-0400
TZNAME:EDT
DTSTART:20230312T070000
END:DAYLIGHT
BEGIN:STANDARD
TZOFFSETFROM:-0400
TZOFFSETTO:-0500
TZNAME:EST
DTSTART:20231105T060000
END:STANDARD
BEGIN:DAYLIGHT
TZOFFSETFROM:-0500
TZOFFSETTO:-0400
TZNAME:EDT
DTSTART:20240310T070000
END:DAYLIGHT
BEGIN:STANDARD
TZOFFSETFROM:-0400
TZOFFSETTO:-0500
TZNAME:EST
DTSTART:20241103T060000
END:STANDARD
BEGIN:DAYLIGHT
TZOFFSETFROM:-0500
TZOFFSETTO:-0400
TZNAME:EDT
DTSTART:20250309T070000
END:DAYLIGHT
BEGIN:STANDARD
TZOFFSETFROM:-0400
TZOFFSETTO:-0500
TZNAME:EST
DTSTART:20251102T060000
END:STANDARD
END:VTIMEZONE
BEGIN:VEVENT
DTSTART;TZID=America/New_York:20240924T130000
DTEND;TZID=America/New_York:20240924T150000
DTSTAMP:20260425T100355
CREATED:20240505T173048Z
LAST-MODIFIED:20240505T173048Z
UID:516-1727182800-1727190000@schhstrummers.com
SUMMARY:Edisto
DESCRIPTION:
URL:https://schhstrummers.com/event/edisto-10/
END:VEVENT
BEGIN:VEVENT
DTSTART;TZID=America/New_York:20240917T130000
DTEND;TZID=America/New_York:20240917T150000
DTSTAMP:20260425T100355
CREATED:20240505T173011Z
LAST-MODIFIED:20240505T173011Z
UID:514-1726578000-1726585200@schhstrummers.com
SUMMARY:Colleton
DESCRIPTION:
URL:https://schhstrummers.com/event/colleton-9/
END:VEVENT
BEGIN:VEVENT
DTSTART;TZID=America/New_York:20240910T130000
DTEND;TZID=America/New_York:20240910T150000
DTSTAMP:20260425T100355
CREATED:20240505T172940Z
LAST-MODIFIED:20240505T172940Z
UID:512-1725973200-1725980400@schhstrummers.com
SUMMARY:Colleton
DESCRIPTION:
URL:https://schhstrummers.com/event/colleton-8/
END:VEVENT
BEGIN:VEVENT
DTSTART;TZID=America/New_York:20240904T150000
DTEND;TZID=America/New_York:20240904T170000
DTSTAMP:20260425T100355
CREATED:20240813T160100Z
LAST-MODIFIED:20240813T160124Z
UID:2131-1725462000-1725469200@schhstrummers.com
SUMMARY:Ginna Pinkepank @ Lakehouse Pool 4-6pm
DESCRIPTION:
URL:https://schhstrummers.com/event/ginna-pinkepank-lakehouse-pool-4-6pm/
LOCATION:Lakehouse Pool
END:VEVENT
BEGIN:VEVENT
DTSTART;TZID=America/New_York:20240903T130000
DTEND;TZID=America/New_York:20240903T150000
DTSTAMP:20260425T100355
CREATED:20240505T172907Z
LAST-MODIFIED:20240505T172907Z
UID:510-1725368400-1725375600@schhstrummers.com
SUMMARY:Edisto
DESCRIPTION:
URL:https://schhstrummers.com/event/edisto-9/
END:VEVENT
BEGIN:VEVENT
DTSTART;TZID=America/New_York:20240828T160000
DTEND;TZID=America/New_York:20240828T190000
DTSTAMP:20260425T100355
CREATED:20240827T023652Z
LAST-MODIFIED:20240827T023652Z
UID:2187-1724860800-1724871600@schhstrummers.com
SUMMARY:TODD KIMMEL @ AL's PUB & PIZZERIA 5-8PM
DESCRIPTION:
URL:https://schhstrummers.com/event/todd-kimmel-als-pub-pizzeria-5-8pm-2/
END:VEVENT
BEGIN:VEVENT
DTSTART;TZID=America/New_York:20240827T130000
DTEND;TZID=America/New_York:20240827T150000
DTSTAMP:20260425T100355
CREATED:20240505T172831Z
LAST-MODIFIED:20240505T172831Z
UID:508-1724763600-1724770800@schhstrummers.com
SUMMARY:Edisto
DESCRIPTION:
URL:https://schhstrummers.com/event/edisto-8/
END:VEVENT
BEGIN:VEVENT
DTSTART;TZID=America/New_York:20240821T160000
DTEND;TZID=America/New_York:20240821T180000
DTSTAMP:20260425T100355
CREATED:20240714T222700Z
LAST-MODIFIED:20240714T222700Z
UID:2041-1724256000-1724263200@schhstrummers.com
SUMMARY:Todd Kimmell HIDDEN CYPRESS POOL 5pm
DESCRIPTION:
URL:https://schhstrummers.com/event/todd-kimmell-hidden-cypress-pool-5pm/
END:VEVENT
BEGIN:VEVENT
DTSTART;TZID=America/New_York:20240820T130000
DTEND;TZID=America/New_York:20240820T150000
DTSTAMP:20260425T100355
CREATED:20240505T172801Z
LAST-MODIFIED:20240505T172801Z
UID:506-1724158800-1724166000@schhstrummers.com
SUMMARY:Edisto
DESCRIPTION:
URL:https://schhstrummers.com/event/edisto-7/
END:VEVENT
BEGIN:VEVENT
DTSTART;TZID=America/New_York:20240816T160000
DTEND;TZID=America/New_York:20240816T170000
DTSTAMP:20260425T100355
CREATED:20240714T222345Z
LAST-MODIFIED:20240714T222459Z
UID:2037-1723824000-1723827600@schhstrummers.com
SUMMARY:Todd Kimmel Opens DDBand Black Marlin 5pm
DESCRIPTION:
URL:https://schhstrummers.com/event/todd-kimmel-opens-ddband-black-marlin-5pm/
END:VEVENT
BEGIN:VEVENT
DTSTART;TZID=America/New_York:20240814T160000
DTEND;TZID=America/New_York:20240814T180000
DTSTAMP:20260425T100355
CREATED:20240813T155625Z
LAST-MODIFIED:20240813T161643Z
UID:2128-1723651200-1723658400@schhstrummers.com
SUMMARY:Keepin' It Real/Marcella & Ryan Lakehouse 5-7
DESCRIPTION:Marcella and Ryan \nLakehouse pool 5-7
URL:https://schhstrummers.com/event/keepin-it-real/
LOCATION:Lakehouse Pool
END:VEVENT
BEGIN:VEVENT
DTSTART;TZID=America/New_York:20240813T130000
DTEND;TZID=America/New_York:20240813T150000
DTSTAMP:20260425T100355
CREATED:20240813T161929Z
LAST-MODIFIED:20240813T161936Z
UID:2140-1723554000-1723561200@schhstrummers.com
SUMMARY:COLLETON RM 2-4
DESCRIPTION:
URL:https://schhstrummers.com/event/colleton-rm-2-4/
END:VEVENT
BEGIN:VEVENT
DTSTART;TZID=America/New_York:20240806T130000
DTEND;TZID=America/New_York:20240806T150000
DTSTAMP:20260425T100355
CREATED:20240505T172649Z
LAST-MODIFIED:20240505T172649Z
UID:502-1722949200-1722956400@schhstrummers.com
SUMMARY:Colleton
DESCRIPTION:
URL:https://schhstrummers.com/event/colleton-6/
END:VEVENT
BEGIN:VEVENT
DTSTART;TZID=America/New_York:20240730T130000
DTEND;TZID=America/New_York:20240730T150000
DTSTAMP:20260425T100355
CREATED:20240505T172510Z
LAST-MODIFIED:20240505T172551Z
UID:500-1722344400-1722351600@schhstrummers.com
SUMMARY:Edisto
DESCRIPTION:
URL:https://schhstrummers.com/event/edisto-6/
END:VEVENT
BEGIN:VEVENT
DTSTART;TZID=America/New_York:20240723T130000
DTEND;TZID=America/New_York:20240723T150000
DTSTAMP:20260425T100355
CREATED:20240505T172442Z
LAST-MODIFIED:20240505T172442Z
UID:498-1721739600-1721746800@schhstrummers.com
SUMMARY:Edisto
DESCRIPTION:
URL:https://schhstrummers.com/event/edisto-5/
END:VEVENT
BEGIN:VEVENT
DTSTART;TZID=America/New_York:20240721T160000
DTEND;TZID=America/New_York:20240721T170000
DTSTAMP:20260425T100355
CREATED:20240714T222106Z
LAST-MODIFIED:20240714T222106Z
UID:2031-1721577600-1721581200@schhstrummers.com
SUMMARY:Todd Kimmel Opens for DDBand 5pm
DESCRIPTION:5pm /Crescent Pointe Golf Club
URL:https://schhstrummers.com/event/todd-kimmel-opens-for-ddband-5pm/
END:VEVENT
BEGIN:VEVENT
DTSTART;TZID=America/New_York:20240721T130000
DTEND;TZID=America/New_York:20240721T180000
DTSTAMP:20260425T100355
CREATED:20240714T224215Z
LAST-MODIFIED:20240714T224215Z
UID:2046-1721566800-1721584800@schhstrummers.com
SUMMARY:OPEN MIC/BAND JAM 2-7pm
DESCRIPTION:Open Mic 2-4 \nOpen Band Jam 4-7 \nSign-in at 2 or 4 to reserve spots
URL:https://schhstrummers.com/event/open-mic-band-jam-2-7pm/
LOCATION:Pavilion
END:VEVENT
BEGIN:VEVENT
DTSTART;TZID=America/New_York:20240717T160000
DTEND;TZID=America/New_York:20240717T180000
DTSTAMP:20260425T100355
CREATED:20240708T201823Z
LAST-MODIFIED:20240708T201823Z
UID:2024-1721232000-1721239200@schhstrummers.com
SUMMARY:Gina @ Hidden Cypress
DESCRIPTION:
URL:https://schhstrummers.com/event/gina-hidden-cypress/
END:VEVENT
BEGIN:VEVENT
DTSTART;TZID=America/New_York:20240716T160000
DTEND;TZID=America/New_York:20240716T180000
DTSTAMP:20260425T100355
CREATED:20240708T200904Z
LAST-MODIFIED:20240708T200904Z
UID:2020-1721145600-1721152800@schhstrummers.com
SUMMARY:
DESCRIPTION:Gina @ Hidden Cypress \n5-7pm
URL:https://schhstrummers.com/event/2020/
END:VEVENT
BEGIN:VEVENT
DTSTART;TZID=America/New_York:20240716T130000
DTEND;TZID=America/New_York:20240716T150000
DTSTAMP:20260425T100355
CREATED:20240505T172359Z
LAST-MODIFIED:20240505T172359Z
UID:496-1721134800-1721142000@schhstrummers.com
SUMMARY:Colleton
DESCRIPTION:
URL:https://schhstrummers.com/event/colleton-5/
END:VEVENT
BEGIN:VEVENT
DTSTART;TZID=America/New_York:20240709T130000
DTEND;TZID=America/New_York:20240709T150000
DTSTAMP:20260425T100355
CREATED:20240505T172314Z
LAST-MODIFIED:20240505T172314Z
UID:494-1720530000-1720537200@schhstrummers.com
SUMMARY:Colleton
DESCRIPTION:
URL:https://schhstrummers.com/event/colleton-4/
END:VEVENT
BEGIN:VEVENT
DTSTART;TZID=America/New_York:20240702T130000
DTEND;TZID=America/New_York:20240702T150000
DTSTAMP:20260425T100355
CREATED:20240505T172232Z
LAST-MODIFIED:20240505T172232Z
UID:492-1719925200-1719932400@schhstrummers.com
SUMMARY:Edisto
DESCRIPTION:
URL:https://schhstrummers.com/event/edisto-4/
END:VEVENT
BEGIN:VEVENT
DTSTART;TZID=America/New_York:20240626T160000
DTEND;TZID=America/New_York:20240626T180000
DTSTAMP:20260425T100355
CREATED:20240618T153453Z
LAST-MODIFIED:20240619T015027Z
UID:1963-1719417600-1719424800@schhstrummers.com
SUMMARY:Todd Kimmel Hidden Cypress
DESCRIPTION:
URL:https://schhstrummers.com/event/todd-kimmel-hidden-cypress-5-7/
END:VEVENT
BEGIN:VEVENT
DTSTART;TZID=America/New_York:20240626T130000
DTEND;TZID=America/New_York:20240626T180000
DTSTAMP:20260425T100355
CREATED:20240619T014148Z
LAST-MODIFIED:20240619T014719Z
UID:1967-1719406800-1719424800@schhstrummers.com
SUMMARY:Open Jam 2-4/4-7(click)
DESCRIPTION:Open Jam Acoustic 2-4\, 1st come-1st choice time\, pavilion\, $5 \nBand jam 4-7 sign in 4pm 1st come/1st  choice submit song request to Gordon Smith joy_road@yahoo.com \n 
URL:https://schhstrummers.com/event/open-jam-2-4-4-7click/
END:VEVENT
BEGIN:VEVENT
DTSTART;TZID=America/New_York:20240625T103000
DTEND;TZID=America/New_York:20240625T140000
DTSTAMP:20260425T100355
CREATED:20240604T211952Z
LAST-MODIFIED:20240623T185648Z
UID:1854-1719311400-1719324000@schhstrummers.com
SUMMARY:Firepit Campfire @ THE PAVILION! (click)
DESCRIPTION:MOVED TO THE PAVILION!! 11:30-3:00 \nPIZZA! $6 per person \nSpouses\, partners\, significant others Invited!
URL:https://schhstrummers.com/event/firepit-campfire/
END:VEVENT
BEGIN:VEVENT
DTSTART;TZID=America/New_York:20240624T160000
DTEND;TZID=America/New_York:20240624T180000
DTSTAMP:20260425T100355
CREATED:20240617T202658Z
LAST-MODIFIED:20240617T202808Z
UID:1938-1719244800-1719252000@schhstrummers.com
SUMMARY:Marcella and Ryan at Lake Somerset 5-7
DESCRIPTION:
URL:https://schhstrummers.com/event/1938/
END:VEVENT
BEGIN:VEVENT
DTSTART;TZID=America/New_York:20240622T150000
DTEND;TZID=America/New_York:20240622T163000
DTSTAMP:20260425T100355
CREATED:20240618T155145Z
LAST-MODIFIED:20240618T155425Z
UID:1965-1719068400-1719073800@schhstrummers.com
SUMMARY:Gina at Alzheimers Assoc Fundraiser
DESCRIPTION:4-5:30pm  (Event 9-7pm) 86 Sanctuary Dr\, Okatie   @The Retreat at East Argent
URL:https://schhstrummers.com/event/gina-at-alzheimers-assoc-fundraiser/
END:VEVENT
BEGIN:VEVENT
DTSTART;TZID=America/New_York:20240619T193000
DTEND;TZID=America/New_York:20240619T193000
DTSTAMP:20260425T100355
CREATED:20240618T150652Z
LAST-MODIFIED:20240618T151304Z
UID:1953-1718825400-1718825400@schhstrummers.com
SUMMARY:Ryan’s Tribute Band WAITING FOR THE SUN 8:30
DESCRIPTION:At Brother Shuckers on Hilton Head \n8:30pm
URL:https://schhstrummers.com/event/ryans-tribute-band-waiting-for-the-sun/
LOCATION:Brother Shuckers\, Hilton Head Island
END:VEVENT
BEGIN:VEVENT
DTSTART;TZID=America/New_York:20240618T130000
DTEND;TZID=America/New_York:20240618T150000
DTSTAMP:20260425T100355
CREATED:20240505T172042Z
LAST-MODIFIED:20240505T172042Z
UID:488-1718715600-1718722800@schhstrummers.com
SUMMARY:Colleton
DESCRIPTION:
URL:https://schhstrummers.com/event/colleton-3/
END:VEVENT
BEGIN:VEVENT
DTSTART;TZID=America/New_York:20240611T130000
DTEND;TZID=America/New_York:20240611T150000
DTSTAMP:20260425T100355
CREATED:20240505T172003Z
LAST-MODIFIED:20240604T212710Z
UID:486-1718110800-1718118000@schhstrummers.com
SUMMARY:Riverbend
DESCRIPTION: 39 Tidewatch Drive 
URL:https://schhstrummers.com/event/no-jam/
END:VEVENT
END:VCALENDAR