BEGIN:VCALENDAR
VERSION:2.0
PRODID:-//Sun City Hilton Head Strummers - ECPv6.15.20//NONSGML v1.0//EN
CALSCALE:GREGORIAN
METHOD:PUBLISH
X-ORIGINAL-URL:https://schhstrummers.com
X-WR-CALDESC:Events for Sun City Hilton Head Strummers
REFRESH-INTERVAL;VALUE=DURATION:PT1H
X-Robots-Tag:noindex
X-PUBLISHED-TTL:PT1H
BEGIN:VTIMEZONE
TZID:America/New_York
BEGIN:DAYLIGHT
TZOFFSETFROM:-0500
TZOFFSETTO:-0400
TZNAME:EDT
DTSTART:20250309T070000
END:DAYLIGHT
BEGIN:STANDARD
TZOFFSETFROM:-0400
TZOFFSETTO:-0500
TZNAME:EST
DTSTART:20251102T060000
END:STANDARD
BEGIN:DAYLIGHT
TZOFFSETFROM:-0500
TZOFFSETTO:-0400
TZNAME:EDT
DTSTART:20260308T070000
END:DAYLIGHT
BEGIN:STANDARD
TZOFFSETFROM:-0400
TZOFFSETTO:-0500
TZNAME:EST
DTSTART:20261101T060000
END:STANDARD
BEGIN:DAYLIGHT
TZOFFSETFROM:-0500
TZOFFSETTO:-0400
TZNAME:EDT
DTSTART:20270314T070000
END:DAYLIGHT
BEGIN:STANDARD
TZOFFSETFROM:-0400
TZOFFSETTO:-0500
TZNAME:EST
DTSTART:20271107T060000
END:STANDARD
END:VTIMEZONE
BEGIN:VEVENT
DTSTART;TZID=America/New_York:20260224T120000
DTEND;TZID=America/New_York:20260224T130000
DTSTAMP:20260424T140021
CREATED:20260202T205213Z
LAST-MODIFIED:20260221T200836Z
UID:3980-1771934400-1771938000@schhstrummers.com
SUMMARY:COACH/BE COACHED COLLETON ROOM
DESCRIPTION:
URL:https://schhstrummers.com/event/coach-be-coached/
END:VEVENT
BEGIN:VEVENT
DTSTART;TZID=America/New_York:20260224T130000
DTEND;TZID=America/New_York:20260224T150000
DTSTAMP:20260424T140021
CREATED:20260202T205035Z
LAST-MODIFIED:20260202T205046Z
UID:3978-1771938000-1771945200@schhstrummers.com
SUMMARY:STRUMMERS MTG
DESCRIPTION:
URL:https://schhstrummers.com/event/strummers-mtg-4/
END:VEVENT
END:VCALENDAR